BEGIN:VCALENDAR
VERSION:2.0
PRODID:-//Destination Toledo - ECPv6.15.17.1//NONSGML v1.0//EN
CALSCALE:GREGORIAN
METHOD:PUBLISH
X-WR-CALNAME:Destination Toledo
X-ORIGINAL-URL:https://feature-353-hide-past-events-review-hart-desti-07sbl4.dev02.devhart.com
X-WR-CALDESC:Events for Destination Toledo
REFRESH-INTERVAL;VALUE=DURATION:PT1H
X-Robots-Tag:noindex
X-PUBLISHED-TTL:PT1H
BEGIN:VTIMEZONE
TZID:America/Detroit
BEGIN:DAYLIGHT
TZOFFSETFROM:-0500
TZOFFSETTO:-0400
TZNAME:EDT
DTSTART:20240310T070000
END:DAYLIGHT
BEGIN:STANDARD
TZOFFSETFROM:-0400
TZOFFSETTO:-0500
TZNAME:EST
DTSTART:20241103T060000
END:STANDARD
BEGIN:DAYLIGHT
TZOFFSETFROM:-0500
TZOFFSETTO:-0400
TZNAME:EDT
DTSTART:20250309T070000
END:DAYLIGHT
BEGIN:STANDARD
TZOFFSETFROM:-0400
TZOFFSETTO:-0500
TZNAME:EST
DTSTART:20251102T060000
END:STANDARD
BEGIN:DAYLIGHT
TZOFFSETFROM:-0500
TZOFFSETTO:-0400
TZNAME:EDT
DTSTART:20260308T070000
END:DAYLIGHT
BEGIN:STANDARD
TZOFFSETFROM:-0400
TZOFFSETTO:-0500
TZNAME:EST
DTSTART:20261101T060000
END:STANDARD
END:VTIMEZONE
BEGIN:VEVENT
DTSTART;TZID=America/Detroit:20250208T191500
DTEND;TZID=America/Detroit:20250208T211500
DTSTAMP:20260423T224637
CREATED:20241217T214504Z
LAST-MODIFIED:20241220T213802Z
UID:13206-1739042100-1739049300@feature-353-hide-past-events-review-hart-desti-07sbl4.dev02.devhart.com
SUMMARY:Toledo Walleye vs. Fort Wayne Komets
DESCRIPTION:Saturday\, February 8\, 2025 | 7:15 p.m.Get your tickets to see Toledo Walleye take on the Fort Wayne Komets!
URL:https://feature-353-hide-past-events-review-hart-desti-07sbl4.dev02.devhart.com/event/toledo-walleye-vs-fort-wayne-komets-3
LOCATION:OH
ATTACH;FMTTYPE=image/jpeg:https://minio.devhart.com/destination-toledo-website/wp-content/uploads/2024/12/10112131/outdoor-market-ffB69Y.tmp_.jpg
END:VEVENT
END:VCALENDAR