BEGIN:VCALENDAR
VERSION:2.0
PRODID:-//Destination Toledo - ECPv6.15.17.1//NONSGML v1.0//EN
CALSCALE:GREGORIAN
METHOD:PUBLISH
X-WR-CALNAME:Destination Toledo
X-ORIGINAL-URL:https://feature-353-hide-past-events-review-hart-desti-07sbl4.dev02.devhart.com
X-WR-CALDESC:Events for Destination Toledo
REFRESH-INTERVAL;VALUE=DURATION:PT1H
X-Robots-Tag:noindex
X-PUBLISHED-TTL:PT1H
BEGIN:VTIMEZONE
TZID:America/Detroit
BEGIN:DAYLIGHT
TZOFFSETFROM:-0500
TZOFFSETTO:-0400
TZNAME:EDT
DTSTART:20240310T070000
END:DAYLIGHT
BEGIN:STANDARD
TZOFFSETFROM:-0400
TZOFFSETTO:-0500
TZNAME:EST
DTSTART:20241103T060000
END:STANDARD
BEGIN:DAYLIGHT
TZOFFSETFROM:-0500
TZOFFSETTO:-0400
TZNAME:EDT
DTSTART:20250309T070000
END:DAYLIGHT
BEGIN:STANDARD
TZOFFSETFROM:-0400
TZOFFSETTO:-0500
TZNAME:EST
DTSTART:20251102T060000
END:STANDARD
BEGIN:DAYLIGHT
TZOFFSETFROM:-0500
TZOFFSETTO:-0400
TZNAME:EDT
DTSTART:20260308T070000
END:DAYLIGHT
BEGIN:STANDARD
TZOFFSETFROM:-0400
TZOFFSETTO:-0500
TZNAME:EST
DTSTART:20261101T060000
END:STANDARD
END:VTIMEZONE
BEGIN:VEVENT
DTSTART;TZID=America/Detroit:20250225T193000
DTEND;TZID=America/Detroit:20250301T230000
DTSTAMP:20260423T203029
CREATED:20241217T213518Z
LAST-MODIFIED:20241220T212529Z
UID:13160-1740511800-1740870000@feature-353-hide-past-events-review-hart-desti-07sbl4.dev02.devhart.com
SUMMARY:Beetlejuice The Musical
DESCRIPTION:Tuesday\, February 25 – Sunday\, March 2\, 2025 | See Times BelowTuesday\, February 25 | 7:30 p.m.Wednesday\, February 26 | 7:30 p.m.Thursday\, February 27 | 7:30 p.m.Friday\, February 28 | 7:30 p.m.Saturday\, March 1 | 2 p.m.Saturday\, March 1 | 7:30 p.m.Sunday\, March 2 | 1 p.m.Sunday\, March 2 | 6:30 p.m. It’s showtime! Based on Tim Burton’s dearly beloved film\, this hilarious musical tells the story of Lydia Deetz\, a strange and unusual teenager whose whole life changes when she meets a recently deceased couple and a demon with a thing for stripes. With an irreverent book\, an astonishing set\, and a score that’s out of this Netherworld\, BEETLEJUICE is “SCREAMINGLY GOOD FUN!” (Variety). And under its uproarious surface (six feet under\, to be exact)\, it’s a remarkably touching show about family\, love\, and making the most of every Day-O!
URL:https://feature-353-hide-past-events-review-hart-desti-07sbl4.dev02.devhart.com/event/beetlejuice-the-musical
LOCATION:OH
ATTACH;FMTTYPE=image/jpeg:https://minio.devhart.com/destination-toledo-website/wp-content/uploads/2024/12/10112131/the-ribbon-lW5EXd.tmp_.jpg
END:VEVENT
BEGIN:VEVENT
DTSTART;TZID=America/Detroit:20250228T200000
DTEND;TZID=America/Detroit:20250228T220000
DTSTAMP:20260423T203029
CREATED:20241217T215207Z
LAST-MODIFIED:20241220T214604Z
UID:13233-1740772800-1740780000@feature-353-hide-past-events-review-hart-desti-07sbl4.dev02.devhart.com
SUMMARY:Theo Von: Return of The Rat
DESCRIPTION:Friday\, February 28\, 2025 | 8 p.m.THEO VON grew up in the stray animal belt of southern Louisiana. He was a child there and became an adult slowly there. He can be seen and heard weekly on his widely popular podcasts that garner millions of listens/views a month THIS PAST WEEKEND\, and KING AND THE STING. Theo’s new comedy special REGULAR PEOPLE was filmed at the historic Ryman Auditorium in Nashville\, TN and is now streaming on Netflix. In the Spring of 2020 Theo completed his two year DARK ARTS TOUR\, which took him across America\, Australia\, and Europe\, and another country. He’s currently on the road with his RETURN OF THE RATTOUR. If you want to know how Theo is doing he is probably doing the best he can; which varies. He currently resides in Nashville and Los Angeles.
URL:https://feature-353-hide-past-events-review-hart-desti-07sbl4.dev02.devhart.com/event/theo-von-return-of-the-rat
LOCATION:OH
ATTACH;FMTTYPE=image/jpeg:https://minio.devhart.com/destination-toledo-website/wp-content/uploads/2024/12/10112131/the-ribbon-lW5EXd.tmp_.jpg
END:VEVENT
END:VCALENDAR