BEGIN:VCALENDAR
VERSION:2.0
PRODID:-//Destination Toledo - ECPv6.15.17.1//NONSGML v1.0//EN
CALSCALE:GREGORIAN
METHOD:PUBLISH
X-WR-CALNAME:Destination Toledo
X-ORIGINAL-URL:https://feature-353-hide-past-events-review-hart-desti-07sbl4.dev02.devhart.com
X-WR-CALDESC:Events for Destination Toledo
REFRESH-INTERVAL;VALUE=DURATION:PT1H
X-Robots-Tag:noindex
X-PUBLISHED-TTL:PT1H
BEGIN:VTIMEZONE
TZID:America/Detroit
BEGIN:DAYLIGHT
TZOFFSETFROM:-0500
TZOFFSETTO:-0400
TZNAME:EDT
DTSTART:20240310T070000
END:DAYLIGHT
BEGIN:STANDARD
TZOFFSETFROM:-0400
TZOFFSETTO:-0500
TZNAME:EST
DTSTART:20241103T060000
END:STANDARD
BEGIN:DAYLIGHT
TZOFFSETFROM:-0500
TZOFFSETTO:-0400
TZNAME:EDT
DTSTART:20250309T070000
END:DAYLIGHT
BEGIN:STANDARD
TZOFFSETFROM:-0400
TZOFFSETTO:-0500
TZNAME:EST
DTSTART:20251102T060000
END:STANDARD
BEGIN:DAYLIGHT
TZOFFSETFROM:-0500
TZOFFSETTO:-0400
TZNAME:EDT
DTSTART:20260308T070000
END:DAYLIGHT
BEGIN:STANDARD
TZOFFSETFROM:-0400
TZOFFSETTO:-0500
TZNAME:EST
DTSTART:20261101T060000
END:STANDARD
END:VTIMEZONE
BEGIN:VEVENT
DTSTART;TZID=America/Detroit:20250406T080000
DTEND;TZID=America/Detroit:20250406T103000
DTSTAMP:20260423T184456
CREATED:20250403T201855Z
LAST-MODIFIED:20250403T201855Z
UID:43796-1743926400-1743935400@feature-353-hide-past-events-review-hart-desti-07sbl4.dev02.devhart.com
SUMMARY:Soothing Bunny at Franklin Park Mall
DESCRIPTION:Join us for Soothing Bunny\, a specially designed sensory-friendly opportunity to visit the Easter Bunny in a calm\, quiet environment before the mall opens. This event is ideal for children and families who may benefit from a more relaxed and comfortable setting to enjoy the magic of the season. \nRegistration Required.  CLICK HERE to Register \n\nDate: Sunday\, April 6\nTime: 8:00 AM – 10:30 AM (Guests register for a time block)\nLocation: Franklin Park Mall\, Easter Bunny Set at Center Court\n\nDuring Soothing Bunny\, we create a gentle atmosphere with a low-stimulation environment with reduced noise and crowds and a welcoming space for a stress-free Bunny visit. \nThere is no charge for Soothing Bunny visits\, and we invite families to take home a keepsake with professional photos available for purchase. \nTo provide the best experience for all guests\, we ask families to register for a time block. Upon arrival during your selected time\, we will see guests in the order they arrive. \nRegistration is required\, so secure your spot today for this special Easter experience!
URL:https://feature-353-hide-past-events-review-hart-desti-07sbl4.dev02.devhart.com/event/soothing-bunny-at-franklin-park-mall
LOCATION:Franklin Park Mall\, 5001 Monroe St\, Toledo\, 43623\, United States
CATEGORIES:family friendly
ATTACH;FMTTYPE=image/png:https://minio.devhart.com/destination-toledo-website/wp-content/uploads/2025/04/10112101/soothing-bunny-4x3-event-image.png
END:VEVENT
BEGIN:VEVENT
DTSTART;TZID=America/Detroit:20250406T100000
DTEND;TZID=America/Detroit:20250406T150000
DTSTAMP:20260423T184456
CREATED:20250321T170241Z
LAST-MODIFIED:20250321T170557Z
UID:39775-1743933600-1743951600@feature-353-hide-past-events-review-hart-desti-07sbl4.dev02.devhart.com
SUMMARY:Crafts & Drafts
DESCRIPTION:Browse local artisan crafts while sipping on your favorite MBBC craft beers! This event is FREE to shop or become a vendor by using the link listed below! \nhttps://www.eventbrite.com/e/craft-and-drafts-tickets-1243571127719?utm-campaign=social&utm-content=attendeeshare&utm-medium=discovery&utm-term=listing&utm-source=cp&aff=ebdsshcopyurl
URL:https://feature-353-hide-past-events-review-hart-desti-07sbl4.dev02.devhart.com/event/crafts-drafts
LOCATION:Maumee Bay Brewing Co.\, 27 Broadway St\, Toledo\, OH\, 43604\, United States
ATTACH;FMTTYPE=image/png:https://minio.devhart.com/destination-toledo-website/wp-content/uploads/2025/03/10112128/crafts-and-drafts-4x3-event-image.png
END:VEVENT
BEGIN:VEVENT
DTSTART;TZID=America/Detroit:20250403T110000
DTEND;TZID=America/Detroit:20250403T190000
DTSTAMP:20260423T184456
CREATED:20250403T201029Z
LAST-MODIFIED:20250410T134034Z
UID:43790-1743678000-1743706800@feature-353-hide-past-events-review-hart-desti-07sbl4.dev02.devhart.com
SUMMARY:Visit the Easter Bunny at Franklin Park Mall
DESCRIPTION:Make this Easter egg-stra special with a visit to the Bunny at Franklin Park Mall! Gather your loved ones and create a memory filled with smiles and joy. \nMarch 29 – April 19\nMonday – Saturday: 11:00am – 7:00pm \nSunday: 12:00pm – 6:00pm \nEvery-bunny is welcome to enjoy a little extra treat with their Bunny photo package! \n\nMonday – Thursday: Receive a free spring drink from Franklin Perk Café—something sweet to sip while you enjoy the season!\nFriday – Sunday: Get a special coupon for savings on a treat at Franklin Perk Café—perfect for a post-visit pick-me-up!\n\nDon’t miss this cherished tradition where smiles bloom and memories last a lifetime!
URL:https://feature-353-hide-past-events-review-hart-desti-07sbl4.dev02.devhart.com/event/visit-the-easter-bunny-at-franklin-park-mall
LOCATION:Franklin Park Mall\, 5001 Monroe St\, Toledo\, 43623\, United States
CATEGORIES:family friendly
ATTACH;FMTTYPE=image/png:https://minio.devhart.com/destination-toledo-website/wp-content/uploads/2025/04/10112102/franklin-park-easter-4x3-event-image.png
END:VEVENT
BEGIN:VEVENT
DTSTART;TZID=America/Detroit:20250403T193000
DTEND;TZID=America/Detroit:20250403T223000
DTSTAMP:20260423T184456
CREATED:20241217T213717Z
LAST-MODIFIED:20250318T144442Z
UID:13165-1743708600-1743719400@feature-353-hide-past-events-review-hart-desti-07sbl4.dev02.devhart.com
SUMMARY:Pretty Woman The Musical
DESCRIPTION:Showtimes:\nThursday\, April 3\, 2025: 7:30 p.m.\nFriday\, April 4\, 2025: 7:30 p.m.\nSaturday\, April 5\, 2025: 2 p.m.\nSaturday\, April 5\, 2025: 7:30 p.m.\nSunday\, April 6\, 2025: 1 p.m.\nSunday\, April 6\, 2025: 6:30 p.m.\nPRETTY WOMAN: THE MUSICAL\, based on one of Hollywood’s most beloved romantic stories of all time\, springs to life with a powerhouse creative team led by two-time Tony Award®-winning director\nand choreographer Jerry Mitchell (Hairspray\, Kinky Boots\, Legally Blonde). PRETTY WOMAN: THE MUSICAL features an original score by Grammy® winner Bryan Adams and Jim\nVallance (“Summer of ’69”\, “Heaven”)\, and a book by the movie’s legendary director Garry Marshall and screenwriter J. F. Lawton. PRETTY WOMAN: THE MUSICAL will lift your spirits and light up your heart. “If you love the movie\, you’ll love the musical!” (BuzzFeed News). Featured in the musical is Roy Orbison and Bill Dee’s international smash hit song “Oh\, Pretty Woman\,” which inspired one of the most beloved romantic comedy films of all time. Pretty Woman the film was an international smash hit when it was released in 1990. Now\, 30 years later\, PRETTY WOMAN: THE MUSICAL is “Big romance and big fun!” (Broadway.com). “Irresistible! A romantic fantasy. A contemporary fairy tale\,” says The Hollywood Reporter. PRETTY WOMAN: THE MUSICAL delivers on all the iconic moments you remember. Get ready to experience this dazzling theatrical take on a love story for the ages.
URL:https://feature-353-hide-past-events-review-hart-desti-07sbl4.dev02.devhart.com/event/pretty-women-the-musical
LOCATION:OH
ATTACH;FMTTYPE=image/jpeg:https://minio.devhart.com/destination-toledo-website/wp-content/uploads/2024/12/17163718/pretty-womena-AcvhSP.tmp_.jpg
END:VEVENT
BEGIN:VEVENT
DTSTART;TZID=America/Detroit:20250406T133000
DTEND;TZID=America/Detroit:20250406T170000
DTSTAMP:20260423T184456
CREATED:20250319T173724Z
LAST-MODIFIED:20250331T173005Z
UID:39621-1743946200-1743958800@feature-353-hide-past-events-review-hart-desti-07sbl4.dev02.devhart.com
SUMMARY:Ohio Bridal & Wedding Expo
DESCRIPTION:This event features an amazing selection of wedding professionals ready to help you find the perfect gown\, reception venue\, invitations\, photographer\, music\, menu\, honeymoon destination\, and much more! \nDon’t miss the bridal fashion shows and live DJ demos\, plus tons of prizes and giveaways.
URL:https://feature-353-hide-past-events-review-hart-desti-07sbl4.dev02.devhart.com/event/ohio-bridal-wedding-expo
LOCATION:Glass City Center\, 401 Jefferson Ave\, Toledo\, OH\, 43606\, United States
ATTACH;FMTTYPE=image/png:https://minio.devhart.com/destination-toledo-website/wp-content/uploads/2025/03/19133234/bridal-4x3-event-image.png
END:VEVENT
BEGIN:VEVENT
DTSTART;TZID=America/Detroit:20250406T170000
DTEND;TZID=America/Detroit:20250406T200000
DTSTAMP:20260423T184456
CREATED:20250401T185237Z
LAST-MODIFIED:20250401T185237Z
UID:42140-1743958800-1743969600@feature-353-hide-past-events-review-hart-desti-07sbl4.dev02.devhart.com
SUMMARY:Maul\, Mutilatred\, Southover\, Windchimes at Culture Clash Records
DESCRIPTION:Culture Clash welcomes Maul\, Mutilatred\, Southover\, and Windchimes to their stage for an early evening show. \nFor more info and schedule of events visit Events – Culture Clash
URL:https://feature-353-hide-past-events-review-hart-desti-07sbl4.dev02.devhart.com/event/maul-mutilatred-southover-windchimes-at-culture-clash-records
LOCATION:Culture Clash Records\, 912 Monroe Street\, Toledo\, OH\, 43604\, United States
CATEGORIES:live music
ATTACH;FMTTYPE=image/png:https://minio.devhart.com/destination-toledo-website/wp-content/uploads/2025/04/10112109/culture-clash-maul-4x3-event-image.png
END:VEVENT
BEGIN:VEVENT
DTSTART;TZID=America/Detroit:20250403T193000
DTEND;TZID=America/Detroit:20250403T223000
DTSTAMP:20260423T184456
CREATED:20241217T213717Z
LAST-MODIFIED:20250318T144442Z
UID:13165-1743708600-1743719400@feature-353-hide-past-events-review-hart-desti-07sbl4.dev02.devhart.com
SUMMARY:Pretty Woman The Musical
DESCRIPTION:Showtimes:\nThursday\, April 3\, 2025: 7:30 p.m.\nFriday\, April 4\, 2025: 7:30 p.m.\nSaturday\, April 5\, 2025: 2 p.m.\nSaturday\, April 5\, 2025: 7:30 p.m.\nSunday\, April 6\, 2025: 1 p.m.\nSunday\, April 6\, 2025: 6:30 p.m.\nPRETTY WOMAN: THE MUSICAL\, based on one of Hollywood’s most beloved romantic stories of all time\, springs to life with a powerhouse creative team led by two-time Tony Award®-winning director\nand choreographer Jerry Mitchell (Hairspray\, Kinky Boots\, Legally Blonde). PRETTY WOMAN: THE MUSICAL features an original score by Grammy® winner Bryan Adams and Jim\nVallance (“Summer of ’69”\, “Heaven”)\, and a book by the movie’s legendary director Garry Marshall and screenwriter J. F. Lawton. PRETTY WOMAN: THE MUSICAL will lift your spirits and light up your heart. “If you love the movie\, you’ll love the musical!” (BuzzFeed News). Featured in the musical is Roy Orbison and Bill Dee’s international smash hit song “Oh\, Pretty Woman\,” which inspired one of the most beloved romantic comedy films of all time. Pretty Woman the film was an international smash hit when it was released in 1990. Now\, 30 years later\, PRETTY WOMAN: THE MUSICAL is “Big romance and big fun!” (Broadway.com). “Irresistible! A romantic fantasy. A contemporary fairy tale\,” says The Hollywood Reporter. PRETTY WOMAN: THE MUSICAL delivers on all the iconic moments you remember. Get ready to experience this dazzling theatrical take on a love story for the ages.
URL:https://feature-353-hide-past-events-review-hart-desti-07sbl4.dev02.devhart.com/event/pretty-women-the-musical
LOCATION:OH
ATTACH;FMTTYPE=image/jpeg:https://minio.devhart.com/destination-toledo-website/wp-content/uploads/2024/12/17163718/pretty-womena-AcvhSP.tmp_.jpg
END:VEVENT
END:VCALENDAR