BEGIN:VCALENDAR
VERSION:2.0
PRODID:-//Destination Toledo - ECPv6.15.17.1//NONSGML v1.0//EN
CALSCALE:GREGORIAN
METHOD:PUBLISH
X-WR-CALNAME:Destination Toledo
X-ORIGINAL-URL:https://feature-353-hide-past-events-review-hart-desti-07sbl4.dev02.devhart.com
X-WR-CALDESC:Events for Destination Toledo
REFRESH-INTERVAL;VALUE=DURATION:PT1H
X-Robots-Tag:noindex
X-PUBLISHED-TTL:PT1H
BEGIN:VTIMEZONE
TZID:America/Detroit
BEGIN:DAYLIGHT
TZOFFSETFROM:-0500
TZOFFSETTO:-0400
TZNAME:EDT
DTSTART:20240310T070000
END:DAYLIGHT
BEGIN:STANDARD
TZOFFSETFROM:-0400
TZOFFSETTO:-0500
TZNAME:EST
DTSTART:20241103T060000
END:STANDARD
BEGIN:DAYLIGHT
TZOFFSETFROM:-0500
TZOFFSETTO:-0400
TZNAME:EDT
DTSTART:20250309T070000
END:DAYLIGHT
BEGIN:STANDARD
TZOFFSETFROM:-0400
TZOFFSETTO:-0500
TZNAME:EST
DTSTART:20251102T060000
END:STANDARD
BEGIN:DAYLIGHT
TZOFFSETFROM:-0500
TZOFFSETTO:-0400
TZNAME:EDT
DTSTART:20260308T070000
END:DAYLIGHT
BEGIN:STANDARD
TZOFFSETFROM:-0400
TZOFFSETTO:-0500
TZNAME:EST
DTSTART:20261101T060000
END:STANDARD
END:VTIMEZONE
BEGIN:VEVENT
DTSTART;TZID=America/Detroit:20250403T110000
DTEND;TZID=America/Detroit:20250403T190000
DTSTAMP:20260422T193317
CREATED:20250403T201029Z
LAST-MODIFIED:20250410T134034Z
UID:43790-1743678000-1743706800@feature-353-hide-past-events-review-hart-desti-07sbl4.dev02.devhart.com
SUMMARY:Visit the Easter Bunny at Franklin Park Mall
DESCRIPTION:Make this Easter egg-stra special with a visit to the Bunny at Franklin Park Mall! Gather your loved ones and create a memory filled with smiles and joy. \nMarch 29 – April 19\nMonday – Saturday: 11:00am – 7:00pm \nSunday: 12:00pm – 6:00pm \nEvery-bunny is welcome to enjoy a little extra treat with their Bunny photo package! \n\nMonday – Thursday: Receive a free spring drink from Franklin Perk Café—something sweet to sip while you enjoy the season!\nFriday – Sunday: Get a special coupon for savings on a treat at Franklin Perk Café—perfect for a post-visit pick-me-up!\n\nDon’t miss this cherished tradition where smiles bloom and memories last a lifetime!
URL:https://feature-353-hide-past-events-review-hart-desti-07sbl4.dev02.devhart.com/event/visit-the-easter-bunny-at-franklin-park-mall
LOCATION:Franklin Park Mall\, 5001 Monroe St\, Toledo\, 43623\, United States
CATEGORIES:family friendly
ATTACH;FMTTYPE=image/png:https://minio.devhart.com/destination-toledo-website/wp-content/uploads/2025/04/10112102/franklin-park-easter-4x3-event-image.png
END:VEVENT
BEGIN:VEVENT
DTSTART;TZID=America/Detroit:20250411T183000
DTEND;TZID=America/Detroit:20250411T213000
DTSTAMP:20260422T193317
CREATED:20250403T185912Z
LAST-MODIFIED:20250403T185912Z
UID:43712-1744396200-1744407000@feature-353-hide-past-events-review-hart-desti-07sbl4.dev02.devhart.com
SUMMARY:Pretty in Pink - 80's Prom Party & Screening
DESCRIPTION:Join the fun for an 80s rewind on Friday\, April 11th!\n6:30p Doors open and DJs Marc Folk and Nate Mattimoe will spin the best in synthesized and sampled music that ever hit Casey Kasem’s American Top 40! Wear your best “volcanic ensemble” to the prom. Cash bar available.\n7:30p Settle into the plush seats of the Historic Theatre and enjoy the classic film\, “Pretty in Pink” on the big screen. General admission tickets are only $5. The cash bar remains open and movie theatre concessions are available\, too.\nBring someone who believes in you.
URL:https://feature-353-hide-past-events-review-hart-desti-07sbl4.dev02.devhart.com/event/pretty-in-pink-80s-prom-party-screening
LOCATION:Valentine Theatre\, 410 Adams St\, Toledo\, OH\, 43604\, United States
CATEGORIES:entertainment,movie
ATTACH;FMTTYPE=image/png:https://minio.devhart.com/destination-toledo-website/wp-content/uploads/2025/04/10112102/pretty-pink-4x3-event-image.png
END:VEVENT
BEGIN:VEVENT
DTSTART;TZID=America/Detroit:20250411T190000
DTEND;TZID=America/Detroit:20250411T220000
DTSTAMP:20260422T193317
CREATED:20250407T194924Z
LAST-MODIFIED:20250407T194924Z
UID:46248-1744398000-1744408800@feature-353-hide-past-events-review-hart-desti-07sbl4.dev02.devhart.com
SUMMARY:National Board Game Day w. Flip the Table & Humane Ohio
DESCRIPTION:Flip the Table is partnering with Humane Ohio to celebrate National Board Game Day! Humane Ohio will be hosting a raffle basket\, special games and selling merch at our lounge.\nThere will be a specialty cocktail for the night – $1 from each cocktail will go directly to Humane Ohio.\nAdditionally you can get FREE admission for the night with any donation made to Humane Ohio!\n\nYou can donate any animal supply that you desire but specifically they need these items most:\n– dry kitten food\n– wet kitten food\n– potty pads\n– paper towels\n– printer paper (8×11)\n– bags (quart + gallon size)\n– wet + dry dog food\n\n*If you do not donate\, the $5 admission still applies. Normal gaming is open this night\, it is not required to interact with Humane Ohio.
URL:https://feature-353-hide-past-events-review-hart-desti-07sbl4.dev02.devhart.com/event/national-board-game-day-w-flip-the-table-humane-ohio
LOCATION:Flip the Table\, 3136 West Central Ave\, Toledo\, 43606\, United States
CATEGORIES:entertainment,family friendly
ATTACH;FMTTYPE=image/png:https://minio.devhart.com/destination-toledo-website/wp-content/uploads/2025/04/10112055/flip-the-table-humane-society-4x3-event-image.png
END:VEVENT
BEGIN:VEVENT
DTSTART;TZID=America/Detroit:20250411T190500
DTEND;TZID=America/Detroit:20250411T220500
DTSTAMP:20260422T193317
CREATED:20250310T180329Z
LAST-MODIFIED:20250319T140711Z
UID:39254-1744398300-1744409100@feature-353-hide-past-events-review-hart-desti-07sbl4.dev02.devhart.com
SUMMARY:Toledo Mud Hens vs. Iowa Cubs | University Night | Game 4 of 6
DESCRIPTION:The Toledo Mud Hens second homestand of the 2025 season welcomes the Chicago Cubs’ AAA affiliate\, the Iowa Cubs. University Night will allow students to focus on career advancement\, while encouraging them to mix and mingle with alumni and other students. \n  \n  \n  \n2025 Season Schedule\nWeekends are for Mud Hens baseball. Thirty-nine of the 75 home games this season fall on weekend dates (13 Fridays\, 13 Saturday and 13 Sundays). The Mud Hens are also home for several holidays in 2025\, including Mother’s Day (May 11)\, Father’s Day (June 15)\, Memorial Day Weekend (May 23-25)\, and the week of Fourth of July (July 1-3). \nThe team plays at home against rival Columbus (Cleveland Guardians affiliate) 12 times (Opening Weekend\, July 1-3 and August 12-17)\, against Iowa (Chicago Cubs affiliate) 12 times (April 8-13 and May 6-11)\, and against Louisville (Cincinnati Reds affiliate) 12 times (May 27 – June 1 and September 9-14). The last home game of the regular 2025 season is slated for Sunday\, September 14. \nFor a full list of promotions\, bag policies\, and other FAQ visit Know Before You Go | Mud Hens
URL:https://feature-353-hide-past-events-review-hart-desti-07sbl4.dev02.devhart.com/event/toledo-mud-hens-vs-iowa-cubs-game-4-of-6-april
LOCATION:Fifth Third Field\, 406 Washington St\, Toledo\, OH\, 43604
ATTACH;FMTTYPE=image/jpeg:https://minio.devhart.com/destination-toledo-website/wp-content/uploads/2025/03/06143812/Mud-Hens-Events-Graphic.jpg
END:VEVENT
BEGIN:VEVENT
DTSTART;TZID=America/Detroit:20250411T191500
DTEND;TZID=America/Detroit:20250411T211500
DTSTAMP:20260422T193317
CREATED:20241217T214804Z
LAST-MODIFIED:20250319T141452Z
UID:13214-1744398900-1744406100@feature-353-hide-past-events-review-hart-desti-07sbl4.dev02.devhart.com
SUMMARY:Toledo Walleye vs. Fort Wayne Komets
DESCRIPTION:Friday\, April 11\, 2025 | 7:15 p.m.\nGet your tickets to see Toledo Walleye take on the Fort Wayne Komets!
URL:https://feature-353-hide-past-events-review-hart-desti-07sbl4.dev02.devhart.com/event/toledo-walleye-vs-fort-wayne-komets-4
LOCATION:OH
ATTACH;FMTTYPE=image/jpeg:https://minio.devhart.com/destination-toledo-website/wp-content/uploads/2024/12/17163306/toledowalleyhomegames-XKmh60.tmp_.jpg
END:VEVENT
BEGIN:VEVENT
DTSTART;TZID=America/Detroit:20250411T200000
DTEND;TZID=America/Detroit:20250411T230000
DTSTAMP:20260422T193317
CREATED:20250407T193600Z
LAST-MODIFIED:20250407T193600Z
UID:46243-1744401600-1744412400@feature-353-hide-past-events-review-hart-desti-07sbl4.dev02.devhart.com
SUMMARY:Whiskey Gypsy at Hollywood Casino
DESCRIPTION:Whiskey Gypsy makes their Hollywood Casion debut! \nWHISKEY GYPSY is a five-piece Party-Rock-Pop-Modern Country cover band\, led by two female vocalists. Members are established professionals with most having decades of stage experience. They play a wide variety of dance and party music spanning multiple decades from the 60’s to today.
URL:https://feature-353-hide-past-events-review-hart-desti-07sbl4.dev02.devhart.com/event/whiskey-gypsy-at-hollywood-casino
LOCATION:Hollywood Casino\, 1968 Miami St\, Toledo\, OH\, 43605\, United States
CATEGORIES:casino,live music
ATTACH;FMTTYPE=image/png:https://minio.devhart.com/destination-toledo-website/wp-content/uploads/2025/04/10112055/whiskey-gypsy-4x3-event-image.png
END:VEVENT
END:VCALENDAR