BEGIN:VCALENDAR
VERSION:2.0
PRODID:-//Destination Toledo - ECPv6.15.17.1//NONSGML v1.0//EN
CALSCALE:GREGORIAN
METHOD:PUBLISH
X-WR-CALNAME:Destination Toledo
X-ORIGINAL-URL:https://feature-353-hide-past-events-review-hart-desti-07sbl4.dev02.devhart.com
X-WR-CALDESC:Events for Destination Toledo
REFRESH-INTERVAL;VALUE=DURATION:PT1H
X-Robots-Tag:noindex
X-PUBLISHED-TTL:PT1H
BEGIN:VTIMEZONE
TZID:America/Detroit
BEGIN:DAYLIGHT
TZOFFSETFROM:-0500
TZOFFSETTO:-0400
TZNAME:EDT
DTSTART:20240310T070000
END:DAYLIGHT
BEGIN:STANDARD
TZOFFSETFROM:-0400
TZOFFSETTO:-0500
TZNAME:EST
DTSTART:20241103T060000
END:STANDARD
BEGIN:DAYLIGHT
TZOFFSETFROM:-0500
TZOFFSETTO:-0400
TZNAME:EDT
DTSTART:20250309T070000
END:DAYLIGHT
BEGIN:STANDARD
TZOFFSETFROM:-0400
TZOFFSETTO:-0500
TZNAME:EST
DTSTART:20251102T060000
END:STANDARD
BEGIN:DAYLIGHT
TZOFFSETFROM:-0500
TZOFFSETTO:-0400
TZNAME:EDT
DTSTART:20260308T070000
END:DAYLIGHT
BEGIN:STANDARD
TZOFFSETFROM:-0400
TZOFFSETTO:-0500
TZNAME:EST
DTSTART:20261101T060000
END:STANDARD
END:VTIMEZONE
BEGIN:VEVENT
DTSTART;TZID=America/Detroit:20250325T083000
DTEND;TZID=America/Detroit:20250325T093000
DTSTAMP:20260421T112341
CREATED:20250321T152324Z
LAST-MODIFIED:20250714T143913Z
UID:39759-1742891400-1742895000@feature-353-hide-past-events-review-hart-desti-07sbl4.dev02.devhart.com
SUMMARY:$20 Drop in Yoga
DESCRIPTION:Join Toledo Mindfulness Institute for their weekly yoga class designed to leave you feeling connected\, present\, and expansive. $20 drop in\, no preregistration required!\n\nPayment can be made with cash or card at studio.Yoga mats and all props provided
URL:https://feature-353-hide-past-events-review-hart-desti-07sbl4.dev02.devhart.com/event/20-drop-in-yoga
LOCATION:Toledo Mindfulness Institute\, 5648 Main Street Suite 1\, Sylvania\, Ohio\, 43560\, United States
ATTACH;FMTTYPE=image/png:https://minio.devhart.com/destination-toledo-website/wp-content/uploads/2025/03/10112128/tmi-yoga-4x3-event-image.png
END:VEVENT
BEGIN:VEVENT
DTSTART;TZID=America/Detroit:20250422T183500
DTEND;TZID=America/Detroit:20250422T213500
DTSTAMP:20260421T112341
CREATED:20250310T190225Z
LAST-MODIFIED:20250319T164356Z
UID:39260-1745346900-1745357700@feature-353-hide-past-events-review-hart-desti-07sbl4.dev02.devhart.com
SUMMARY:Toledo Mud Hens vs. Omaha Storm Chasers | Game 1 of 6
DESCRIPTION:The Toledo Mud Hens last homestand of April welcomes the Kansas City Royals’ AAA affiliate\, the Omaha Storm Chasers. \n  \n  \n  \n2025 Season Schedule\nWeekends are for Mud Hens baseball. Thirty-nine of the 75 home games this season fall on weekend dates (13 Fridays\, 13 Saturday and 13 Sundays). The Mud Hens are also home for several holidays in 2025\, including Mother’s Day (May 11)\, Father’s Day (June 15)\, Memorial Day Weekend (May 23-25)\, and the week of Fourth of July (July 1-3). \nThe team plays at home against rival Columbus (Cleveland Guardians affiliate) 12 times (Opening Weekend\, July 1-3 and August 12-17)\, against Iowa (Chicago Cubs affiliate) 12 times (April 8-13 and May 6-11)\, and against Louisville (Cincinnati Reds affiliate) 12 times (May 27 – June 1 and September 9-14). The last home game of the regular 2025 season is slated for Sunday\, September 14. \nFor a full list of promotions\, bag policies\, and other FAQ visit Know Before You Go | Mud Hens
URL:https://feature-353-hide-past-events-review-hart-desti-07sbl4.dev02.devhart.com/event/toledo-mud-hens-vs-omaha-storm-chasers-game-1-of-6-april
LOCATION:Fifth Third Field\, 406 Washington St\, Toledo\, OH\, 43604
ATTACH;FMTTYPE=image/jpeg:https://minio.devhart.com/destination-toledo-website/wp-content/uploads/2025/03/06143812/Mud-Hens-Events-Graphic.jpg
END:VEVENT
BEGIN:VEVENT
DTSTART;TZID=America/Detroit:20250325T190000
DTEND;TZID=America/Detroit:20250325T213000
DTSTAMP:20260421T112341
CREATED:20250321T142002Z
LAST-MODIFIED:20250321T142002Z
UID:39747-1742929200-1742938200@feature-353-hide-past-events-review-hart-desti-07sbl4.dev02.devhart.com
SUMMARY:SESSIONS: Tuesday Night LIVE Jazz at Lucille's
DESCRIPTION:Join us every week at Lucille’s Lounge for an unforgettable musical experience as Gene Parker and Damen Cook host ‘sessions\,’ a live performance event that brings decades of musical expertise to the stage. Gene Parker\, a seasoned musician with 50 years in the Toledo area\, is a true virtuoso across multiple instruments and an esteemed Jazz Studies instructor. Damen Cook\, a talented drummer influenced by jazz\, R&B\, and rock\, brings a vibrant energy to the stage. Enjoy the dazzling sounds of these two incredible artists! \n$5 music fee will be added to tabs\, per person. 2 drink minimum applies (soda and bottled water included). Make it a Taco Tuesday with our chef-selected\, made-from-scratch tacos!
URL:https://feature-353-hide-past-events-review-hart-desti-07sbl4.dev02.devhart.com/event/sessions-tuesday-night-live-jazz-at-lucilles
LOCATION:Lucille’s Jazz Lounge\, 1447 N. Summit St.\, Toledo\, OH\, 43604\, United States
ATTACH;FMTTYPE=image/png:https://minio.devhart.com/destination-toledo-website/wp-content/uploads/2025/03/10112129/lucilles-tues-4x3-event-image.png
END:VEVENT
BEGIN:VEVENT
DTSTART;TZID=America/Detroit:20250422T193000
DTEND;TZID=America/Detroit:20250422T213000
DTSTAMP:20260421T112341
CREATED:20241217T220130Z
LAST-MODIFIED:20250319T165257Z
UID:13265-1745350200-1745357400@feature-353-hide-past-events-review-hart-desti-07sbl4.dev02.devhart.com
SUMMARY:The Lord of the Rings & The Hobbit In Concert
DESCRIPTION:Tuesday\, April 22\, 2024 | 7:30 p.m.\nThe music of “The Lord of the Rings”\, “The Hobbit” & “The Rings of Power” with a special guest from the films! The best music from “The Lord of the Rings”\, “The Hobbit” & “The Rings of Power” in concert with a special guest from the films\, The Orchestra and Choir of The Shire and Oscar-winning music of Ed Sheeran\, Howard Shore\, Annie Lennox\, Enya and more composers. The hobbits are coming! The musical world of hobbits and elves from J.R.R. Tolkien’s “Lord of The Rings” and “The Hobbit” will be performed in an unique concert by a film orchestra\, choir and star soloists. The two-hour performance features an original star guest and the greatest music from the films\, in a spectrum reaching from the threatening sounds of Mordor and the shrill attack of the black riders to the beautiful lyrical melodies of the elves.
URL:https://feature-353-hide-past-events-review-hart-desti-07sbl4.dev02.devhart.com/event/the-lord-of-the-rings-the-hobbit-in-concert
LOCATION:Stranahan Theater\, 4645 Heatherdowns Blvd\, Toledo\, OH\, 43614\, United States
ATTACH;FMTTYPE=image/png:https://minio.devhart.com/destination-toledo-website/wp-content/uploads/2024/12/19124446/lord-of-the-rings-concert-4x3-1.png
END:VEVENT
BEGIN:VEVENT
DTSTART;TZID=America/Detroit:20250422T200000
DTEND;TZID=America/Detroit:20250422T230000
DTSTAMP:20260421T112341
CREATED:20250320T173801Z
LAST-MODIFIED:20250320T173801Z
UID:39726-1745352000-1745362800@feature-353-hide-past-events-review-hart-desti-07sbl4.dev02.devhart.com
SUMMARY:Brit Floyd - Wish You Were Here 50th Anniversary
DESCRIPTION:The World’s Greatest Pink Floyd Show is set to return to the Huntington Center for their 2025 world tour\, commemorating the 50th anniversary of the renowned Wish You Were Here album. This is an exceptional opportunity to witness a remarkable tribute to classic hits and captivating performances.\n \nWXKR\, WRQN and WGTE present Brit Floyd \nHuntington Center  |  April 22\, 2025 \n7:00pm Doors  |  8:00pm Show \nOn Sale:  NOW at the box office (avoid most fees) and Ticketmaster.com \nPrices: $40.00\, $44.50\, $54.50\, $59.50 (Not including VIP packages or Platinum seating) \nBritfloydofficial.com \n 
URL:https://feature-353-hide-past-events-review-hart-desti-07sbl4.dev02.devhart.com/event/brit-floyd-wish-you-were-here-50th-anniversary
LOCATION:Huntington Center\, 500 Jefferson Ave\, Toledo\, OH\, 43604\, United States
ATTACH;FMTTYPE=image/png:https://minio.devhart.com/destination-toledo-website/wp-content/uploads/2025/03/20133657/brit-floyd-4x3-event-image.png
END:VEVENT
END:VCALENDAR