BEGIN:VCALENDAR
VERSION:2.0
PRODID:-//Destination Toledo - ECPv6.15.17.1//NONSGML v1.0//EN
CALSCALE:GREGORIAN
METHOD:PUBLISH
X-WR-CALNAME:Destination Toledo
X-ORIGINAL-URL:https://feature-353-hide-past-events-review-hart-desti-07sbl4.dev02.devhart.com
X-WR-CALDESC:Events for Destination Toledo
REFRESH-INTERVAL;VALUE=DURATION:PT1H
X-Robots-Tag:noindex
X-PUBLISHED-TTL:PT1H
BEGIN:VTIMEZONE
TZID:America/Detroit
BEGIN:DAYLIGHT
TZOFFSETFROM:-0500
TZOFFSETTO:-0400
TZNAME:EDT
DTSTART:20240310T070000
END:DAYLIGHT
BEGIN:STANDARD
TZOFFSETFROM:-0400
TZOFFSETTO:-0500
TZNAME:EST
DTSTART:20241103T060000
END:STANDARD
BEGIN:DAYLIGHT
TZOFFSETFROM:-0500
TZOFFSETTO:-0400
TZNAME:EDT
DTSTART:20250309T070000
END:DAYLIGHT
BEGIN:STANDARD
TZOFFSETFROM:-0400
TZOFFSETTO:-0500
TZNAME:EST
DTSTART:20251102T060000
END:STANDARD
BEGIN:DAYLIGHT
TZOFFSETFROM:-0500
TZOFFSETTO:-0400
TZNAME:EDT
DTSTART:20260308T070000
END:DAYLIGHT
BEGIN:STANDARD
TZOFFSETFROM:-0400
TZOFFSETTO:-0500
TZNAME:EST
DTSTART:20261101T060000
END:STANDARD
END:VTIMEZONE
BEGIN:VEVENT
DTSTART;TZID=America/Detroit:20250601T100000
DTEND;TZID=America/Detroit:20250601T150000
DTSTAMP:20260423T234509
CREATED:20250423T133615Z
LAST-MODIFIED:20250424T144513Z
UID:51330-1748772000-1748790000@feature-353-hide-past-events-review-hart-desti-07sbl4.dev02.devhart.com
SUMMARY:Thrift & Sip
DESCRIPTION:Thrift & Sip returns on June 1! Get ready to explore second-hand thrifts- like clothing\, art\, decor and much more at this highly anticipated event! \nSip on your favorite Maumee Bay Brewing Co. brews and enjoy delicious eats from the MBBC food truck. There will also be live music from Jeph (Jason Ramm & Stephanie Clegg) and also\, Tim Oehlersand\, and much more! \nNo Admission is required to shop for this family friendly and dog friendly event. \nBecome a Vendor:\nThere are indoor and outdoor options for vendor booths. Sell your gently used clothing\, art & more at Thrift & Sip!
URL:https://feature-353-hide-past-events-review-hart-desti-07sbl4.dev02.devhart.com/event/thrift-sip-2
LOCATION:Maumee Bay Brewing Co.\, 27 Broadway St\, Toledo\, OH\, 43604\, United States
CATEGORIES:Beer,food,live music,shopping
ATTACH;FMTTYPE=image/png:https://minio.devhart.com/destination-toledo-website/wp-content/uploads/2025/04/10112027/thrift-and-sip-maumee-bay-2025-4x3-event-image.png
ORGANIZER;CN="Maumee Bay Brewing Co.":MAILTO:Dperkins@mbaybrew.com
END:VEVENT
BEGIN:VEVENT
DTSTART;TZID=America/Detroit:20250412T100000
DTEND;TZID=America/Detroit:20250412T160000
DTSTAMP:20260423T234509
CREATED:20250408T154221Z
LAST-MODIFIED:20250501T184329Z
UID:46344-1744452000-1744473600@feature-353-hide-past-events-review-hart-desti-07sbl4.dev02.devhart.com
SUMMARY:Rachel Ruysch: Nature into Art
DESCRIPTION:Experience the extraordinary still lifes of Rachel Ruysch\, where every bloom tells a story. Rachel Ruysch: Nature into Art is the first monographic exhibition dedicated to this pioneering Dutch painter; an artist whose work seamlessly blends beauty\, detail\, and scientific curiosity. \nDon’t miss this rare opportunity; reserve your exhibition tickets today.
URL:https://feature-353-hide-past-events-review-hart-desti-07sbl4.dev02.devhart.com/event/rachel-ruysch-nature-into-art
LOCATION:Toledo Museum of Art\, 2445 Monroe St\, Toledo\, OH\, 43620\, United States
CATEGORIES:art,educational
ATTACH;FMTTYPE=image/png:https://minio.devhart.com/destination-toledo-website/wp-content/uploads/2025/04/10112051/tma-Rachel-Ruysch-4x3-event-image.png
END:VEVENT
BEGIN:VEVENT
DTSTART;TZID=America/Detroit:20250425T100000
DTEND;TZID=America/Detroit:20250425T170000
DTSTAMP:20260423T234509
CREATED:20250501T123359Z
LAST-MODIFIED:20250501T123359Z
UID:51551-1745575200-1745600400@feature-353-hide-past-events-review-hart-desti-07sbl4.dev02.devhart.com
SUMMARY:HOCKEY: Faster Than Ever
DESCRIPTION:T-town\, are you ready? It’s time to test your skills and soak up the science of ice hockey because the new exhibition HOCKEY: Faster Than Ever is skating into Imagination Station. \nThis immersive exhibition puts you right in the action. It takes you on an exciting journey through the evolution of ice hockey\, highlighting the remarkable technical advancements and scientific breakthroughs that have shaped the sport over time. This incredible game will inspire you with ingenuity and creativity as you explore the history\, culture\, and fusion of science and sport. \nJoin the Imagination Station for when HOCKEY: Faster Than Ever opens\, and learn how science is behind every thrilling moment on the ice! \nHOCKEY: Faster Than Ever is free for members\, $5 + Admission for non-members
URL:https://feature-353-hide-past-events-review-hart-desti-07sbl4.dev02.devhart.com/event/hockey-faster-than-ever
LOCATION:Imagination Station\, 1 Discovery Way\, Toledo\, OH\, 43604
CATEGORIES:educational,family friendly,sports
ATTACH;FMTTYPE=image/png:https://minio.devhart.com/destination-toledo-website/wp-content/uploads/2025/04/10112018/Hockeyimaginationstation4x3-event-image.png
END:VEVENT
BEGIN:VEVENT
DTSTART;TZID=America/Detroit:20250531T110000
DTEND;TZID=America/Detroit:20250531T213000
DTSTAMP:20260423T234509
CREATED:20250508T132820Z
LAST-MODIFIED:20250508T132820Z
UID:52012-1748689200-1748727000@feature-353-hide-past-events-review-hart-desti-07sbl4.dev02.devhart.com
SUMMARY:Maple & Main Art & Music Festival
DESCRIPTION:Get ready for a free sizzling summer kickoff! The Maple & Main Art & Music Festival is coming to Olander Park on May 31 – June 1\, featuring:\n• 95+ artist booths• Live music all weekend long• A beer garden with craft brews• Street food from local vendors• Kids’ art area where creativity shines\nFREE entry for everyone!Get more info at https://www.sylvaniaarts.org/Preview artist work at https://www.zapplication.org/event-gallery.php?ID=13176\nGet excited for the 2025 Music Line Up! On the stage Saturday May 31st.\n11:00 am-12 noon Hector Mendoza!! Beautiful guitar music\n12-1:30 pm Ella Cole\, singer song writer with a strong\, voice\n2-3:30 pm The Folk Yeahs-rock-n-roll\, country jam cover band\n4-5:30 pm -keepitcasual-reggae\, jazz\, funk band\n6-7:30 pm -Purple Bois-genre defying funk-jazz-fusion!\n8-9:30 pm Frog Holler -all the way from PA! An alternative country and bluegrass party!\nSunday June 1 Music Line Up\n11-12:30 pm Locoweed-country/rock band\n1-2:30 pm Chloe and the Steel Strings-psychedelic folk rock\n3-4:30 pm J. Navarro and the Traitors – Ska punk’s finest
URL:https://feature-353-hide-past-events-review-hart-desti-07sbl4.dev02.devhart.com/event/maple-main-art-music-festival
LOCATION:Olander Park\, 6930 Sylvania Ave\, Sylvania\, Ohio\, 43560\, United States
CATEGORIES:family friendly,live music,outdoors
ATTACH;FMTTYPE=image/png:https://minio.devhart.com/destination-toledo-website/wp-content/uploads/2025/05/10112006/maple-and-main-4x3-event-image.png
END:VEVENT
BEGIN:VEVENT
DTSTART;TZID=America/Detroit:20250601T140500
DTEND;TZID=America/Detroit:20250601T170500
DTSTAMP:20260423T234510
CREATED:20250311T124959Z
LAST-MODIFIED:20250311T125112Z
UID:39291-1748786700-1748797500@feature-353-hide-past-events-review-hart-desti-07sbl4.dev02.devhart.com
SUMMARY:Toledo Mud Hens vs. Louisville Bats | Marvel Night | Game 6 of 6
DESCRIPTION:The Toledo Mud Hens welcome the Cincinatti Reds’ AAA affiliate\, the Louisville Bats\, to town for a six-game series. Enjoy Sunday afternoon Mud Hens baseball as well as appearances from some Marvel favorites! Sunday’s game will also feature pregame player autographs and the opportunity for kids (12 & under) to run the bases after the game. \n  \n  \n2025 Season Schedule\nWeekends are for Mud Hens baseball. Thirty-nine of the 75 home games this season fall on weekend dates (13 Fridays\, 13 Saturday and 13 Sundays). The Mud Hens are also home for several holidays in 2025\, including Mother’s Day (May 11)\, Father’s Day (June 15)\, Memorial Day Weekend (May 23-25)\, and the week of Fourth of July (July 1-3). \nThe team plays at home against rival Columbus (Cleveland Guardians affiliate) 12 times (Opening Weekend\, July 1-3 and August 12-17)\, against Iowa (Chicago Cubs affiliate) 12 times (April 8-13 and May 6-11)\, and against Louisville (Cincinnati Reds affiliate) 12 times (May 27 – June 1 and September 9-14). The last home game of the regular 2025 season is slated for Sunday\, September 14. \nFor a full list of promotions\, bag policies\, and other FAQ visit Know Before You Go | Mud Hens
URL:https://feature-353-hide-past-events-review-hart-desti-07sbl4.dev02.devhart.com/event/toledo-mud-hens-vs-louisville-bats-marvel-night-game-6-of-6-june
LOCATION:Fifth Third Field\, 406 Washington St\, Toledo\, OH\, 43604
ATTACH;FMTTYPE=image/jpeg:https://minio.devhart.com/destination-toledo-website/wp-content/uploads/2025/03/06143812/Mud-Hens-Events-Graphic.jpg
END:VEVENT
BEGIN:VEVENT
DTSTART;TZID=America/Detroit:20250518T200000
DTEND;TZID=America/Detroit:20250518T220000
DTSTAMP:20260423T234510
CREATED:20250312T154646Z
LAST-MODIFIED:20250313T193259Z
UID:39340-1747598400-1747605600@feature-353-hide-past-events-review-hart-desti-07sbl4.dev02.devhart.com
SUMMARY:Sunset and City Lights Cruise on the Sandpiper
DESCRIPTION:Cruise up the majestic Maumee River to Walbridge Park and enjoy a beautiful sunset followed by a return trip downtown for amazing night views. \nPizza\, soft drinks and water provided. All food and drinks including alcoholic beverages are welcome. Guests are encouraged to bring a small cooler to keep their items cold. \nJ&M Cruise Lines 2025 Season\nJ&M Cruise Lines operates the Sandpiper\, Glass City Pearl\, and the Water Street Taxi & Tour\, and manages the Glass City Marina and the Downtown Toledo docks.  \nVisit www.jmcruiselines.com for more information about their boats\, cruises\, and policies. \nFor a full list of J&M Cruise Lines’ events visit www.jmcruiselines.com/calendar
URL:https://feature-353-hide-past-events-review-hart-desti-07sbl4.dev02.devhart.com/event/sunset-and-city-lights-cruise-on-the-sandpiper
LOCATION:OH
ATTACH;FMTTYPE=image/jpeg:https://minio.devhart.com/destination-toledo-website/wp-content/uploads/2025/03/12114456/SP-SUNSET-and-CITY-LIGHT-CRUISES.jpg
END:VEVENT
END:VCALENDAR