BEGIN:VCALENDAR
VERSION:2.0
PRODID:-//Destination Toledo - ECPv6.15.17.1//NONSGML v1.0//EN
CALSCALE:GREGORIAN
METHOD:PUBLISH
X-WR-CALNAME:Destination Toledo
X-ORIGINAL-URL:https://feature-353-hide-past-events-review-hart-desti-07sbl4.dev02.devhart.com
X-WR-CALDESC:Events for Destination Toledo
REFRESH-INTERVAL;VALUE=DURATION:PT1H
X-Robots-Tag:noindex
X-PUBLISHED-TTL:PT1H
BEGIN:VTIMEZONE
TZID:America/Detroit
BEGIN:DAYLIGHT
TZOFFSETFROM:-0500
TZOFFSETTO:-0400
TZNAME:EDT
DTSTART:20240310T070000
END:DAYLIGHT
BEGIN:STANDARD
TZOFFSETFROM:-0400
TZOFFSETTO:-0500
TZNAME:EST
DTSTART:20241103T060000
END:STANDARD
BEGIN:DAYLIGHT
TZOFFSETFROM:-0500
TZOFFSETTO:-0400
TZNAME:EDT
DTSTART:20250309T070000
END:DAYLIGHT
BEGIN:STANDARD
TZOFFSETFROM:-0400
TZOFFSETTO:-0500
TZNAME:EST
DTSTART:20251102T060000
END:STANDARD
BEGIN:DAYLIGHT
TZOFFSETFROM:-0500
TZOFFSETTO:-0400
TZNAME:EDT
DTSTART:20260308T070000
END:DAYLIGHT
BEGIN:STANDARD
TZOFFSETFROM:-0400
TZOFFSETTO:-0500
TZNAME:EST
DTSTART:20261101T060000
END:STANDARD
END:VTIMEZONE
BEGIN:VEVENT
DTSTART;TZID=America/Detroit:20250715T000000
DTEND;TZID=America/Detroit:20250715T235959
DTSTAMP:20260424T145738
CREATED:20250715T123451Z
LAST-MODIFIED:20250715T123632Z
UID:53507-1752537600-1752623999@feature-353-hide-past-events-review-hart-desti-07sbl4.dev02.devhart.com
SUMMARY:Infinite Images: The Art of Algorithms
DESCRIPTION:Explore the intersection of art and technology in Infinite Images: The Art of Algorithms. This exhibition highlights the innovative ways artists use code\, systems\, and generative processes to create visually striking works that challenge how we define creativity. From early experiments in computer art to today’s algorithm-driven visuals\, discover how artists are reimagining image-making in the digital age. \nDon’t miss this rare opportunity; reserve your exhibition tickets today.
URL:https://feature-353-hide-past-events-review-hart-desti-07sbl4.dev02.devhart.com/event/infinite-images-the-art-of-algorithms
LOCATION:Toledo Museum of Art\, 2445 Monroe St\, Toledo\, OH\, 43620\, United States
CATEGORIES:art,educational
ATTACH;FMTTYPE=image/png:https://minio.devhart.com/destination-toledo-website/wp-content/uploads/2025/07/10111820/Infinite-Images-tma-exhibit-4x3-event-image.png
END:VEVENT
BEGIN:VEVENT
DTSTART;TZID=America/Detroit:20250625T090000
DTEND;TZID=America/Detroit:20250625T190000
DTSTAMP:20260424T145738
CREATED:20250626T185048Z
LAST-MODIFIED:20250626T194952Z
UID:53030-1750842000-1750878000@feature-353-hide-past-events-review-hart-desti-07sbl4.dev02.devhart.com
SUMMARY:GardenView U-Pick Flower Garden
DESCRIPTION:Wander a magical garden and make a bouquet from more than 30 varieties of flowers—zinnias\, sunflowers\, cosmos\, marigolds\, lisianthus and many more at GardenView Flowers! There are many photo opportunities abound\, so be sure to bring your phone or camera for capturing the experience!\nU-Pick Flowers is open form June 25-Mid September (closing date depends on weather/growing conditions)\n\nCost:$18 to fill a 4″ vase with flowers ($16 if you bring a standard size mason jar to fill)—clippers provided for use\, as well one bottle of water per ticket; Cash\, check or Venmo accepted\n\nWhat to ExpectWhen you arrive at the GardenView Flower Stop\, you’ll sign-in at their welcome table\, fill your mason jar (Ball brand quart-size mason jar) or a vase purchased from GardenView ($2) with water and a get a set of clippers for picking blossoms. When you’re finished picking flowers\, you’ll return your clippers to GardenView.\n\nCostGuests can make a bouquet for $16. Bring a Ball brand quart-size mason jar or buy a 4” wide vase at check-in ($2 for vase) to fill with as many flowers as you would like. Guests will be able to borrow clippers from GardenView Flowers for picking flowers. One complimentary bottle of water included with each U-Pick.\nGardenView Flowers has planted more than 60 varieties of fresh-cut flowers in their U-Pick garden\, offering a colorful mix of varieties and textures for making a beautiful bouquet to take home. Guests can bring a bucket or vase for transporting their flowers (water on site) or purchase a vase or bucket from the GardenView Flower Stop. You can purchase tickets at the U-Pick Garden using cash\, check or Venmo at GardenView Flowers.
URL:https://feature-353-hide-past-events-review-hart-desti-07sbl4.dev02.devhart.com/event/gardenview-u-pick-flower-garden
LOCATION:GardenView Flowers\, 11160 South River Rd\, Grand Rapids\, OH\, 43522\, United States
CATEGORIES:nature
ATTACH;FMTTYPE=image/png:https://minio.devhart.com/destination-toledo-website/wp-content/uploads/2025/06/10111843/gardenview-flowers-u-pick-4x3-event-image.png
END:VEVENT
BEGIN:VEVENT
DTSTART;TZID=America/Detroit:20250425T100000
DTEND;TZID=America/Detroit:20250425T170000
DTSTAMP:20260424T145738
CREATED:20250501T123359Z
LAST-MODIFIED:20250501T123359Z
UID:51551-1745575200-1745600400@feature-353-hide-past-events-review-hart-desti-07sbl4.dev02.devhart.com
SUMMARY:HOCKEY: Faster Than Ever
DESCRIPTION:T-town\, are you ready? It’s time to test your skills and soak up the science of ice hockey because the new exhibition HOCKEY: Faster Than Ever is skating into Imagination Station. \nThis immersive exhibition puts you right in the action. It takes you on an exciting journey through the evolution of ice hockey\, highlighting the remarkable technical advancements and scientific breakthroughs that have shaped the sport over time. This incredible game will inspire you with ingenuity and creativity as you explore the history\, culture\, and fusion of science and sport. \nJoin the Imagination Station for when HOCKEY: Faster Than Ever opens\, and learn how science is behind every thrilling moment on the ice! \nHOCKEY: Faster Than Ever is free for members\, $5 + Admission for non-members
URL:https://feature-353-hide-past-events-review-hart-desti-07sbl4.dev02.devhart.com/event/hockey-faster-than-ever
LOCATION:Imagination Station\, 1 Discovery Way\, Toledo\, OH\, 43604
CATEGORIES:educational,family friendly,sports
ATTACH;FMTTYPE=image/png:https://minio.devhart.com/destination-toledo-website/wp-content/uploads/2025/04/10112018/Hockeyimaginationstation4x3-event-image.png
END:VEVENT
BEGIN:VEVENT
DTSTART;TZID=America/Detroit:20250515T113000
DTEND;TZID=America/Detroit:20250515T133000
DTSTAMP:20260424T145738
CREATED:20250312T183857Z
LAST-MODIFIED:20250312T183857Z
UID:39356-1747308600-1747315800@feature-353-hide-past-events-review-hart-desti-07sbl4.dev02.devhart.com
SUMMARY:Thursday Lunch Cruise on The Sandpiper
DESCRIPTION:Enjoy an extended lunch break on a two-hour tour of the Maumee River! Cruises travel along the river to view stately homes\, yacht clubs and wildlife. Come see what downtown Toledo has to offer. This cruise is catered by Daves Cosmic Subs with a variety of options to choose from when booking a ticket. Bookings will cease 1 hour prior to cruise due to catering. \nGuests are welcome to bring their own food and beverages\, including alcoholic beverages\, aboard any J&M Cruise Line event. Guests are encouraged to bring a small cooler to keep their items cold. \nJ&M Cruise Lines 2025 Season\nJ&M Cruise Lines operates the Sandpiper\, Glass City Pearl\, and the Water Street Taxi & Tour\, and manages the Glass City Marina and the Downtown Toledo docks.  \nVisit www.jmcruiselines.com for more information about their boats\, cruises\, and policies. \nFor a full list of J&M Cruise Lines’ events visit www.jmcruiselines.com/calendar
URL:https://feature-353-hide-past-events-review-hart-desti-07sbl4.dev02.devhart.com/event/thursday-lunch-cruise-on-the-sandpiper
LOCATION:OH
ATTACH;FMTTYPE=image/jpeg:https://minio.devhart.com/destination-toledo-website/wp-content/uploads/2025/03/12142358/Sandpiper0682.jpg
END:VEVENT
BEGIN:VEVENT
DTSTART;TZID=America/Detroit:20250605T113000
DTEND;TZID=America/Detroit:20250605T133000
DTSTAMP:20260424T145738
CREATED:20250502T191550Z
LAST-MODIFIED:20250502T192714Z
UID:51928-1749123000-1749130200@feature-353-hide-past-events-review-hart-desti-07sbl4.dev02.devhart.com
SUMMARY:Lunch at Levis
DESCRIPTION:Join in the celebration of 20 years of Lunch at Levis! Enjoy live entertainment\, food vendors\, games and other activities! Grab lunch from one of the 17 local food trucks or get takeout from one of downtown Toledo’s restaurants and come join the fun.\n\nLevis Square Park – at the corner of Madison Avenue & St. Clair St.Every Thursday from June 5 – October 2 (11:30 a.m. – 1:30 p.m.)\n– June 5 | DJ Jon Zenz– June 12 | Michael Corwin– June 19 | Distant Cousinz– June 26 | Chris Knopp– July 3 | 4th of July Celebration with Shane Piasecki– July 10 | New Moon– July 17 | Ben DeLong– July 24 | Christmas in July event with Arctic Clam– July 31 | Chloe & the Steel Strings– August 7 | Mud Hens Hype Bash– August 14 | Chavar Dontae– August 21 | Tim Oehlers– August 28 | Water Street Band– September 4 | DJ Super Nathan– September 11 | Terry & Charlie– September 18 | Ora Pettaway– September 25 | Tony Salazar– October 2 | DJ Jon Zenz
URL:https://feature-353-hide-past-events-review-hart-desti-07sbl4.dev02.devhart.com/event/lunch-at-levis
LOCATION:Levis Square\, 285 N St Clair St\, Toledo\, OH\, 43604\, United States
CATEGORIES:entertainment,food,live music,outdoors
ATTACH;FMTTYPE=image/png:https://minio.devhart.com/destination-toledo-website/wp-content/uploads/2025/05/10112010/lunch-at-levis-4x3-event-image.png
END:VEVENT
BEGIN:VEVENT
DTSTART;TZID=America/Detroit:20250508T150000
DTEND;TZID=America/Detroit:20250508T200000
DTSTAMP:20260424T145738
CREATED:20250408T170859Z
LAST-MODIFIED:20250408T170859Z
UID:46350-1746716400-1746734400@feature-353-hide-past-events-review-hart-desti-07sbl4.dev02.devhart.com
SUMMARY:Perrysburg Farmers Market
DESCRIPTION:Mark your calendars—every Thursday (3-8 PM) from May 8 to October 9\, you can join the fun in beautiful Downtown Perrysburg for 23 weeks of local flavor\, great music\, and fresh finds!\nLouisiana Ave\, Downtown Perrysburg\nCome shop fresh produce\, artisan goods\, flowers\, baked treats\, and more—plus enjoy live music\, food trucks\, and family-friendly fun each week!\nSupport your local makers\, growers\, and small businesses while enjoying one of Perrysburg’s favorite traditions. See you at the market!
URL:https://feature-353-hide-past-events-review-hart-desti-07sbl4.dev02.devhart.com/event/perrysburg-farmers-market
LOCATION:Downtown Perrysburg\, Perrysburg\, OH\, United States
CATEGORIES:outdoors,shopping
ATTACH;FMTTYPE=image/png:https://minio.devhart.com/destination-toledo-website/wp-content/uploads/2025/04/10112051/pburg-farmers-market-4x3-event-image.png
END:VEVENT
BEGIN:VEVENT
DTSTART;TZID=America/Detroit:20250821T170000
DTEND;TZID=America/Detroit:20250821T190000
DTSTAMP:20260424T145738
CREATED:20250814T200127Z
LAST-MODIFIED:20250814T200127Z
UID:54089-1755795600-1755802800@feature-353-hide-past-events-review-hart-desti-07sbl4.dev02.devhart.com
SUMMARY:Eenie Meanie Movie Premiere at ESPN BET
DESCRIPTION:Don’t miss your chance to watch Eenie Meanie where it all began — on the big screen\, surrounded by the excitement of Hollywood Casino Toledo\, where some of the movie was filmed! Be part of the excitement for an exclusive public screening of Eenie Meanie\, the highly anticipated new film from director Shawn Simmons\, premiering on Hulu August 22. This event is free and open to the public but you MUST reserve a seat because space is limited.\n\nDate: August 21stTime: 5 PMLocation: ESPN BET Sports Bar – Hollywood Casino Toledo\n\nEnjoy the movie in style with complimentary beverages\, snacks\, popcorn\, and light bites. A cash bar will be available. Seating for ticket holders is first come\, first served.\n\nMust be 21 years or older. Gambling problem? Call 1-800-589-9966.
URL:https://feature-353-hide-past-events-review-hart-desti-07sbl4.dev02.devhart.com/event/eenie-meanie-movie-premiere-at-espn-bet
LOCATION:Hollywood Casino\, 1968 Miami St\, Toledo\, OH\, 43605\, United States
CATEGORIES:casino,entertainment,movie
ATTACH;FMTTYPE=image/png:https://minio.devhart.com/destination-toledo-website/wp-content/uploads/2025/08/10111726/casion-eenie-meanie-4x3-event-image.png
END:VEVENT
BEGIN:VEVENT
DTSTART;TZID=America/Detroit:20250417T180000
DTEND;TZID=America/Detroit:20250417T200000
DTSTAMP:20260424T145738
CREATED:20250411T184927Z
LAST-MODIFIED:20250411T184927Z
UID:46704-1744912800-1744920000@feature-353-hide-past-events-review-hart-desti-07sbl4.dev02.devhart.com
SUMMARY:Registry Bistro Craft Cocktail Workshop
DESCRIPTION:Registry’s Craft Cocktail Workshops make a great adult field trip! Whether it is a date night\, girls’ night\, or a team-building experience… shake things up on the 3rd Thursday of every month at Registry Bistro!⁠ \n• Join us for a full hands-on experience \n• Learn the history of a cocktail and how to mix it \n• Light nibbles and nosh \n• Beginning at 6 PM
URL:https://feature-353-hide-past-events-review-hart-desti-07sbl4.dev02.devhart.com/event/registry-bistro-craft-cocktail-workshop
LOCATION:Registry Bistro\, 144 N Superior St\, Toledo\, OH\, 43604\, United States
CATEGORIES:cocktails,educational
ATTACH;FMTTYPE=image/png:https://minio.devhart.com/destination-toledo-website/wp-content/uploads/2025/04/10112043/registry-bistro-4x3-event-image.png
END:VEVENT
BEGIN:VEVENT
DTSTART;TZID=America/Detroit:20250821T183000
DTEND;TZID=America/Detroit:20250821T203000
DTSTAMP:20260424T145738
CREATED:20250414T132710Z
LAST-MODIFIED:20250415T175751Z
UID:46957-1755801000-1755808200@feature-353-hide-past-events-review-hart-desti-07sbl4.dev02.devhart.com
SUMMARY:Jazz In The Garden | Jean Holden Group
DESCRIPTION:Toledo Botanical Garden\, Thursdays\, 6:30 p.m. from July 10 – September 11 \nWarm summer nights and cool Jazz in the Garden. This season\, once again\, features some of the best regional artists. \nThe Toledo Botanical Garden will have food trucks on site. Bring your friends/family and enjoy music in nature. Fee: $10. $5 for up to 2 tickets for Members. Please Note: kids 12 and under are Free. No reservation required. Cash only at gate. Gates open at 5:30 p.m. Bring a chair/blanket. \n\nJuly 10\, Toledo Jazz Orchestra\nJuly 17\, Gene Parker Quintet\nJuly 24\, Ramona Collins Group\nJuly 31\, Dr. Jim & Jazz Interns\nAugust 7\, Cake Walkin’ Jass Band\nAugust 14\, Tumbao Bravo\nAugust 21\, Jean Holden Group\nAugust 28\, 6th Edition\nSeptember 4\, April Varner Band\nSeptember 11\, Ariel Kaiser Quartet\n\nFor a complete line-up of performances visit MetroparksToledo.com/jazz. \nFor more information on the Toledo Metroparks visit Metroparks Toledo – Destination Toledo
URL:https://feature-353-hide-past-events-review-hart-desti-07sbl4.dev02.devhart.com/event/jazz-in-the-garden-jean-holden-group
LOCATION:Toledo Botanical Garden\, 5403 Elmer Dr\, Toledo\, OH\, 43615\, United States
CATEGORIES:concert,entertainment,family friendly,food,live music
ATTACH;FMTTYPE=image/png:https://minio.devhart.com/destination-toledo-website/wp-content/uploads/2025/04/10112041/jazz-in-the-garden-4x3-event-image.png
END:VEVENT
BEGIN:VEVENT
DTSTART;TZID=America/Detroit:20250327T190000
DTEND;TZID=America/Detroit:20250327T194500
DTSTAMP:20260424T145738
CREATED:20250321T153113Z
LAST-MODIFIED:20250725T125339Z
UID:39762-1743102000-1743104700@feature-353-hide-past-events-review-hart-desti-07sbl4.dev02.devhart.com
SUMMARY:$20 Sound Bath
DESCRIPTION:Join Toledo Mindfulness Institute for their weekly Sound Bath designed to leave you feeling connected\, present\, and expansive.\n\n$20 drop in\, no preregistration required. Instruments vary based on the week\, typically use crystal singing bowls and voice. Yoga mats and all props provided. Payment can be made with cash or card at studio.
URL:https://feature-353-hide-past-events-review-hart-desti-07sbl4.dev02.devhart.com/event/10-sound-bath
LOCATION:Toledo Mindfulness Institute\, 5648 Main Street Suite 1\, Sylvania\, Ohio\, 43560\, United States
CATEGORIES:wellness,yoga
ATTACH;FMTTYPE=image/png:https://minio.devhart.com/destination-toledo-website/wp-content/uploads/2025/03/10112128/tmi-sound-bath-4x3-event-image.png
END:VEVENT
END:VCALENDAR