BEGIN:VCALENDAR
VERSION:2.0
PRODID:-//Destination Toledo - ECPv6.15.17.1//NONSGML v1.0//EN
CALSCALE:GREGORIAN
METHOD:PUBLISH
X-WR-CALNAME:Destination Toledo
X-ORIGINAL-URL:https://feature-353-hide-past-events-review-hart-desti-07sbl4.dev02.devhart.com
X-WR-CALDESC:Events for Destination Toledo
REFRESH-INTERVAL;VALUE=DURATION:PT1H
X-Robots-Tag:noindex
X-PUBLISHED-TTL:PT1H
BEGIN:VTIMEZONE
TZID:America/Detroit
BEGIN:DAYLIGHT
TZOFFSETFROM:-0500
TZOFFSETTO:-0400
TZNAME:EDT
DTSTART:20240310T070000
END:DAYLIGHT
BEGIN:STANDARD
TZOFFSETFROM:-0400
TZOFFSETTO:-0500
TZNAME:EST
DTSTART:20241103T060000
END:STANDARD
BEGIN:DAYLIGHT
TZOFFSETFROM:-0500
TZOFFSETTO:-0400
TZNAME:EDT
DTSTART:20250309T070000
END:DAYLIGHT
BEGIN:STANDARD
TZOFFSETFROM:-0400
TZOFFSETTO:-0500
TZNAME:EST
DTSTART:20251102T060000
END:STANDARD
BEGIN:DAYLIGHT
TZOFFSETFROM:-0500
TZOFFSETTO:-0400
TZNAME:EDT
DTSTART:20260308T070000
END:DAYLIGHT
BEGIN:STANDARD
TZOFFSETFROM:-0400
TZOFFSETTO:-0500
TZNAME:EST
DTSTART:20261101T060000
END:STANDARD
END:VTIMEZONE
BEGIN:VEVENT
DTSTART;TZID=America/Detroit:20250927T000000
DTEND;TZID=America/Detroit:20250927T235959
DTSTAMP:20260424T003415
CREATED:20250709T130454Z
LAST-MODIFIED:20250812T202448Z
UID:53376-1758931200-1759017599@feature-353-hide-past-events-review-hart-desti-07sbl4.dev02.devhart.com
SUMMARY:University of Toledo Homecoming Parade
DESCRIPTION:Celebrate Rocket Pride and join the Toledo Rockets football team as they play against the Akron Zips\, following the annual Homecoming Parade! \nEdward C. and Helen G. Schmakel parade \nGet into the spirit as you watch floats\, dignitaries\, alumni\, honorees\, Rocket Marching Band\, Rocky and Rocksy\, and more take to the streets of Old Orchard with the annual Edward C. and Helen G. Schmakel Homecoming Parade. Presented by Blue Key National Honor Society and supported by the Office of Student Engagement and the Office of Alumni Engagement. \nFor more information about the UT Homecoming football game and parade\, visit the UToledo website! 
URL:https://feature-353-hide-past-events-review-hart-desti-07sbl4.dev02.devhart.com/event/homecoming-the-university-of-toledo
LOCATION:University of Toledo\, 2801 W Bancroft St\, Toledo\, Ohio\, 43606\, United States
CATEGORIES:family friendly,football,outdoors
ATTACH;FMTTYPE=image/png:https://minio.devhart.com/destination-toledo-website/wp-content/uploads/2025/07/10111829/university-of-toledo-4x3-event-image.png
END:VEVENT
BEGIN:VEVENT
DTSTART;TZID=America/Detroit:20250715T000000
DTEND;TZID=America/Detroit:20250715T235959
DTSTAMP:20260424T003415
CREATED:20250715T123451Z
LAST-MODIFIED:20250715T123632Z
UID:53507-1752537600-1752623999@feature-353-hide-past-events-review-hart-desti-07sbl4.dev02.devhart.com
SUMMARY:Infinite Images: The Art of Algorithms
DESCRIPTION:Explore the intersection of art and technology in Infinite Images: The Art of Algorithms. This exhibition highlights the innovative ways artists use code\, systems\, and generative processes to create visually striking works that challenge how we define creativity. From early experiments in computer art to today’s algorithm-driven visuals\, discover how artists are reimagining image-making in the digital age. \nDon’t miss this rare opportunity; reserve your exhibition tickets today.
URL:https://feature-353-hide-past-events-review-hart-desti-07sbl4.dev02.devhart.com/event/infinite-images-the-art-of-algorithms
LOCATION:Toledo Museum of Art\, 2445 Monroe St\, Toledo\, OH\, 43620\, United States
CATEGORIES:art,educational
ATTACH;FMTTYPE=image/png:https://minio.devhart.com/destination-toledo-website/wp-content/uploads/2025/07/10111820/Infinite-Images-tma-exhibit-4x3-event-image.png
END:VEVENT
BEGIN:VEVENT
DTSTART;TZID=America/Detroit:20250927T080000
DTEND;TZID=America/Detroit:20250927T140000
DTSTAMP:20260424T003415
CREATED:20250820T192028Z
LAST-MODIFIED:20250820T192112Z
UID:54093-1758960000-1758981600@feature-353-hide-past-events-review-hart-desti-07sbl4.dev02.devhart.com
SUMMARY:Bikes to Bridges
DESCRIPTION:The Toledo Club is hosting a Bikes to Bridges event on Saturday\, September 27. Registration starts at 8 AM and the ride starts at 9 am. This is a family-oriented ride that will take you across the Cherry Street Bridge to the Glass City Metropark. After a brief break\, riders will head across the Craig Street Bridge for a quick stop at the Toledo Farmers Market and then back to the Toledo Club for lunch and fun. CycleWerks is partnering with the Toledo Club to offer support and supplies. Create Art Studio will be at the event to offer a creative art table for kids of all ages. Registration\, which includes lunch\, is $25 for adults and $16 for kids 12 and under. Register by emailing fitness@toledoclub.org. Final date of registration is September 13.
URL:https://feature-353-hide-past-events-review-hart-desti-07sbl4.dev02.devhart.com/event/bikes-to-bridges
LOCATION:The Toledo Club\, 235 14th St\, Toledo\, 43604
CATEGORIES:biking,exercise,family friendly
ATTACH;FMTTYPE=image/png:https://minio.devhart.com/destination-toledo-website/wp-content/uploads/2025/08/10111714/toledo-club-bikes-4x3-event-image.png
ORGANIZER;CN="The Toledo Club":MAILTO:fitness@toledoclub.org
END:VEVENT
BEGIN:VEVENT
DTSTART;TZID=America/Detroit:20250412T090000
DTEND;TZID=America/Detroit:20250412T130000
DTSTAMP:20260424T003415
CREATED:20250408T152305Z
LAST-MODIFIED:20250408T152838Z
UID:46340-1744448400-1744462800@feature-353-hide-past-events-review-hart-desti-07sbl4.dev02.devhart.com
SUMMARY:Toledo Farmers' Market
DESCRIPTION:The Toledo Farmers’ Market occurs every Saturday throughout the year\, featuring local produce & handmade products from local artisans in the Toledo Region.\n*Summer/Fall Hours (Outdoor Market)*8am – 2pm\n*Winter/Spring Hours (Indoor Market)*9am – 1pm\nThe Farmers’ Market Association of Toledo (FMAT) goal is to provide a highly visible\, centralized location for area farmers and gardeners to market high-quality products directly to consumers. They support local small family farms\, agricultural producers\, and craftsmen\, whose continued existence depends on direct marketing opportunities.
URL:https://feature-353-hide-past-events-review-hart-desti-07sbl4.dev02.devhart.com/event/toledo-farmers-market
LOCATION:Toledo Farmers’ Market\, 525 Market St\,\, Toledo\, Ohio\, 43604\, United States
CATEGORIES:food,shopping
ATTACH;FMTTYPE=image/png:https://minio.devhart.com/destination-toledo-website/wp-content/uploads/2025/04/10112051/farmers-market-4x3-event-image.png
END:VEVENT
BEGIN:VEVENT
DTSTART;TZID=America/Detroit:20250517T100000
DTEND;TZID=America/Detroit:20250517T120000
DTSTAMP:20260424T003415
CREATED:20250312T191735Z
LAST-MODIFIED:20250312T195014Z
UID:39362-1747476000-1747483200@feature-353-hide-past-events-review-hart-desti-07sbl4.dev02.devhart.com
SUMMARY:Discover the River Cruise on The Sandpiper
DESCRIPTION:Enjoy a two- hour morning cruise on the Maumee River. Relax and take in all of the stately homes\, wildlife\, and local history along the river. \nGuests are welcome to bring their own food and beverages\, including alcoholic beverages\, aboard any J&M Cruise Line event. Guests are encouraged to bring a small cooler to keep their items cold. \nJ&M Cruise Lines 2025 Season\nJ&M Cruise Lines operates the Sandpiper\, Glass City Pearl\, and the Water Street Taxi & Tour\, and manages the Glass City Marina and the Downtown Toledo docks.  \nVisit www.jmcruiselines.com for more information about their boats\, cruises\, and policies. \nFor a full list of J&M Cruise Lines’ events visit www.jmcruiselines.com/calendar
URL:https://feature-353-hide-past-events-review-hart-desti-07sbl4.dev02.devhart.com/event/discover-the-river-cruise-on-the-sandpiper
LOCATION:OH
ATTACH;FMTTYPE=image/jpeg:https://minio.devhart.com/destination-toledo-website/wp-content/uploads/2025/03/12142358/Sandpiper0682.jpg
END:VEVENT
BEGIN:VEVENT
DTSTART;TZID=America/Detroit:20250927T100000
DTEND;TZID=America/Detroit:20250927T180000
DTSTAMP:20260424T003415
CREATED:20250714T193628Z
LAST-MODIFIED:20250714T193922Z
UID:53475-1758967200-1758996000@feature-353-hide-past-events-review-hart-desti-07sbl4.dev02.devhart.com
SUMMARY:The Muddy Maumee Book and Art Festival
DESCRIPTION:Stop by The Muddy Maumee Book and Art Festival for this two-day event that showcases and celebrates local artists and authors at the Ribbon in the beautiful Glass City Metropark on the banks of the Maumee River. \nThere will be live music\, entertainment\, tasty food\, and drinks available. Over 50 authors and artists will be on hand to share with you their creations. \nYou won’t want to miss out!
URL:https://feature-353-hide-past-events-review-hart-desti-07sbl4.dev02.devhart.com/event/the-muddy-maumee-book-and-art-festival
LOCATION:Glass City Metropark\, 1505 Front Street\, Toledo\, Ohio
CATEGORIES:art,books,entertainment,Festival,food,live music
ATTACH;FMTTYPE=image/png:https://minio.devhart.com/destination-toledo-website/wp-content/uploads/2025/07/10111822/brand.png
END:VEVENT
BEGIN:VEVENT
DTSTART;TZID=America/Detroit:20250607T110000
DTEND;TZID=America/Detroit:20250607T130000
DTSTAMP:20260424T003415
CREATED:20250317T153854Z
LAST-MODIFIED:20250317T153854Z
UID:39422-1749294000-1749301200@feature-353-hide-past-events-review-hart-desti-07sbl4.dev02.devhart.com
SUMMARY:Saturday Brunch on the Glass City Pearl
DESCRIPTION:Enjoy brunch and a Saturday morning cruise on the Maumee River aboard the Glass City Pearl. Guests are encouraged to bring their own champagne and/or vodka to take advantage of our signature “Maumosa” and “Mary Dalby – Bloody Mary” recipes. Brunch will be catered in and is included in the ticket price. \nIf you have any dietary restrictions\, please include them within your booking information. Booking may cease 24 hours prior to the cruise to accommodate all catering requests. \nJ&M Cruise Lines 2025 Season\nJ&M Cruise Lines operates the Sandpiper\, Glass City Pearl\, and the Water Street Taxi & Tour\, and manages the Glass City Marina and the Downtown Toledo docks.  \nVisit www.jmcruiselines.com for more information about their boats\, cruises\, and policies. \nFor a full list of J&M Cruise Lines’ events visit www.jmcruiselines.com/calendar
URL:https://feature-353-hide-past-events-review-hart-desti-07sbl4.dev02.devhart.com/event/saturday-brunch-on-the-glass-city-pearl
LOCATION:J&M Boat Launch\, 1 Jefferson Ave\, Toledo\, OH\, 43604\, United States
ATTACH;FMTTYPE=image/jpeg:https://minio.devhart.com/destination-toledo-website/wp-content/uploads/2025/03/17113527/DJI_0695.jpg
END:VEVENT
BEGIN:VEVENT
DTSTART;TZID=America/Detroit:20250808T110000
DTEND;TZID=America/Detroit:20250808T170000
DTSTAMP:20260424T003415
CREATED:20250811T154606Z
LAST-MODIFIED:20250811T154607Z
UID:53989-1754650800-1754672400@feature-353-hide-past-events-review-hart-desti-07sbl4.dev02.devhart.com
SUMMARY:Glass Harvest
DESCRIPTION:Visit the Toledo Museum of Art to shop and view a beautiful array of hand-blown glass pumpkins during their fifth annual Glass Harvest. Explore the Rita B. Kern Sensory Garden and take your pick from a spectacular collection of over 300 colorful glass pumpkins of all shapes and sizes. Every piece is hand-made by our team of studio artists in the Glass Pavilion at TMA. \nThis event is free to the public.
URL:https://feature-353-hide-past-events-review-hart-desti-07sbl4.dev02.devhart.com/event/glass-harvest
LOCATION:Toledo Museum of Art\, 2445 Monroe St\, Toledo\, OH\, 43620\, United States
CATEGORIES:art
ATTACH;FMTTYPE=image/jpeg:https://minio.devhart.com/destination-toledo-website/wp-content/uploads/2025/08/10111733/24.09.28-TMA-Glass-Harvest-020-scaled.jpg
END:VEVENT
BEGIN:VEVENT
DTSTART;TZID=America/Detroit:20250926T180000
DTEND;TZID=America/Detroit:20250926T220000
DTSTAMP:20260424T003415
CREATED:20250903T173958Z
LAST-MODIFIED:20250903T174333Z
UID:54364-1758909600-1758924000@feature-353-hide-past-events-review-hart-desti-07sbl4.dev02.devhart.com
SUMMARY:Maumee Film Festival
DESCRIPTION:The Maumee Film Festival celebrates the art of creativity\, filmmaking and storytelling. It allows aspiring filmmakers the unique opportunity to see their work projected on a movie screen in the iconic and beautiful Maumee Indoor Theater. The festival also celebrates the city of Maumee\, a peaceful community situated along the scenic Maumee River in Northwest Ohio. \nFestival | Maumee Film Festival
URL:https://feature-353-hide-past-events-review-hart-desti-07sbl4.dev02.devhart.com/event/maumee-film-festival
LOCATION:Maumee Indoor Theater\, 601 Conant St\, Maumee\, OH\, 43537\, United States
CATEGORIES:entertainment,Festival,movie,Speaker
ATTACH;FMTTYPE=image/png:https://minio.devhart.com/destination-toledo-website/wp-content/uploads/2025/09/10111703/maumee-fil-festival-2025-4x3-event-image.png
END:VEVENT
BEGIN:VEVENT
DTSTART;TZID=America/Detroit:20250927T140000
DTEND;TZID=America/Detroit:20250927T220000
DTSTAMP:20260424T003415
CREATED:20250904T181049Z
LAST-MODIFIED:20250904T181152Z
UID:54371-1758981600-1759010400@feature-353-hide-past-events-review-hart-desti-07sbl4.dev02.devhart.com
SUMMARY:Oktoberfest 2025
DESCRIPTION:People often ask – “If it’s called Oktoberfest why is it in September?” Every year the largest Oktoberfest is held in Munich\, Germany – and it begins in mid-September and runs until the beginning of October. The very first Oktoberfest was held in 1810 on October 12th\, but over the years the celebration has expanded to begin earlier in the year for warmer weather and additional daylight hours. \nEmbrace this long tradition and celebrate the 2025 Oktoberfest celebration on September 27th. This fall festival is well known for bringing the time-honored traditions of Germany to Toledo\, with relaxed fun at Oak Shade Grove – 3624 Seaman Road\, Oregon. \nKicking the event off is a new Opening Ceremony – including a parade of German and European cars\, and featuring the princesses of the seven societies of the German-American Festival Society. No Oktoberfest would be complete without beer – and back by popular demand for 2025 is the hosted authentic German beer tasting experience. \nGermans love their sports and this year friendly competitions have been added– from Schleuderball throwing\, to Masskrugstemmen beer stein holding\, and our returning Cultural competition. \nNew performances this year include the Toledo Swiss männerchor – dammenchor (men’s and women’s choir)\, joining the returning kinder (children’s) group of the d’Holzhackerbuam Schuhplattlers. Of course\, the Deutsche Volkstanz Group will feature multiple times throughout the day! \nFull Schedule of Events : \n2:00 PM – Festival Opens with Free Admission and Free Parking – Car Show Opens \n2:30 PM – Bavarian Sports Club (BSC) D’Holzhackerbuam Schuhplattlers Kinder (“children”) dance \n3:00 PM – Opening Ceremonies \n3:30 PM – Deutsche Volkstanz Group Opening Dance \n4:00 PM – Toledo Swiss Singers \n4:30 PM – Schluederball Throwing Competition \n5:00 PM – Deutsche Volkstanz Group Dance \n5:30 PM – Car Show Awards Ceremony \n5:30 PM – Deutschmeister Band – dorfkappelle – a “village band” with a modern flair \n6:30 PM – Deutsche Volkstanz Group Dance \n7:00 PM – Deutschmeister Band \n7:30 PM – Masskrugstemmen Beer Stein Holding Competition \n8:00 PM – Deutsche Volkstanz Group Dance \n9:00 PM – Deutschmeister Band \n10:00 PM – Closing \nOktoberfest 2025
URL:https://feature-353-hide-past-events-review-hart-desti-07sbl4.dev02.devhart.com/event/oktoberfest-2025
LOCATION:Oak Shade Grove\, 3624 Seaman Road\, Oregon\, OH\, 43616\, United States
CATEGORIES:Beer,dance,Festival,food
ATTACH;FMTTYPE=image/png:https://minio.devhart.com/destination-toledo-website/wp-content/uploads/2025/09/10111702/Oktoberfest-2025-Hero.png
ORGANIZER;CN="Deutsche Volkstanz Gruppe":MAILTO:dvgtoledo@gmail.com
END:VEVENT
BEGIN:VEVENT
DTSTART;TZID=America/Detroit:20250927T153000
DTEND;TZID=America/Detroit:20250927T183000
DTSTAMP:20260424T003415
CREATED:20250813T154927Z
LAST-MODIFIED:20250813T154927Z
UID:54061-1758987000-1758997800@feature-353-hide-past-events-review-hart-desti-07sbl4.dev02.devhart.com
SUMMARY:Toledo Rockets Football vs. Akron | Homecoming
DESCRIPTION:Join Rocket fans and alumni at the Glass Bowl for the Homecoming Game on September 27\, 2025 at 3:30 p.m. as the Toledo Rockets take on the Akron Zips. Celebrate tradition\, reconnect with fellow alumni\, and experience the electric atmosphere as the Rockets aim for victory in this high-stakes MAC showdown. \nBuilding off of an impressive 2024 campaign that saw the Rockets defeat two power conference schools\, Toledo brings back 52 letterwinners\, including four All-Mid-American Conference selections. Add another talented recruiting class and a group of experienced transfers and Jason Candle’s Rockets are poised for another big season with MAC Championship aspirations. \nToledo Rockets football schedule:\n \nAug 30 (Sat) @ Kentucky 12:45 p.m. \nSep 6 (Sat) vs. Western Kentucky 7:00 p.m.\n“Biggest Party in Toledo” \nSep 13 (Sat) vs. Morgan State 3:30 p.m. \nSep 20 (Sat) @ Western Michigan TBA \nSep 27 (Sat) vs. Akron 3:30 PM\nHomecoming \nOct 11 (Sat) @ Bowling Green TBA \nOct 18 (Sat) vs. Kent State TBA \nOct 25 (Sat) @ Washington State 3:30 p.m. \nNov 5 (Wed) vs. Northern Illinois TBA \nNov 12 (Wed) @ Miami 7:00 p.m. \nNov 22 (Sat) vs. Ball State TBA \nNov 29 (Sat) vs. Central Michigan TBA \nCatch every touchdown\, game highlight\, and insider update at the official Toledo Rockets Football website. Stay in the know with schedules\, tickets\, and exclusive team content. \n 
URL:https://feature-353-hide-past-events-review-hart-desti-07sbl4.dev02.devhart.com/event/toledo-rockets-football-vs-akron-homecoming-2025
LOCATION:Glass Bowl Stadium\, 1745 Stadium Dr\, Toledo\, 43606
CATEGORIES:football,sports
ATTACH;FMTTYPE=image/png:https://minio.devhart.com/destination-toledo-website/wp-content/uploads/2025/08/10111728/ut-football-team-4x3-event-image.png
END:VEVENT
BEGIN:VEVENT
DTSTART;TZID=America/Detroit:20250621T200000
DTEND;TZID=America/Detroit:20250621T230000
DTSTAMP:20260424T003416
CREATED:20250317T181434Z
LAST-MODIFIED:20250317T181434Z
UID:39439-1750536000-1750546800@feature-353-hide-past-events-review-hart-desti-07sbl4.dev02.devhart.com
SUMMARY:Lake Erie Sunset Cruise on The Glass City Pearl
DESCRIPTION:Join us for a three-hour cruise aboard The Glass City Pearl as we travel down river to the enjoy the spectacular sunset on Lake Erie. This cruise will provide you a beautiful view of the Toledo Harbor Lighthouse. \nYou are welcome to bring your own food and beverages\, including alcoholic beverages\, aboard any of our cruises. We encourage you to bring a small cooler to keep your items cold. \nJ&M Cruise Lines 2025 Season\nJ&M Cruise Lines operates the Sandpiper\, Glass City Pearl\, and the Water Street Taxi & Tour\, and manages the Glass City Marina and the Downtown Toledo docks.  \nVisit www.jmcruiselines.com for more information about their boats\, cruises\, and policies. \nFor a full list of J&M Cruise Lines’ events visit www.jmcruiselines.com/calendar
URL:https://feature-353-hide-past-events-review-hart-desti-07sbl4.dev02.devhart.com/event/lake-erie-sunset-cruise-on-the-glass-city-pearl
LOCATION:J&M Boat Launch\, 1 Jefferson Ave\, Toledo\, OH\, 43604\, United States
ATTACH;FMTTYPE=image/jpeg:https://minio.devhart.com/destination-toledo-website/wp-content/uploads/2025/03/17140811/GCP-SUNSET.jpg
END:VEVENT
BEGIN:VEVENT
DTSTART;TZID=America/Detroit:20250927T200000
DTEND;TZID=America/Detroit:20250927T230000
DTSTAMP:20260424T003416
CREATED:20250710T150739Z
LAST-MODIFIED:20250710T150739Z
UID:53269-1759003200-1759014000@feature-353-hide-past-events-review-hart-desti-07sbl4.dev02.devhart.com
SUMMARY:Hollywood Casino Toledo - Blonde Ambition - Madonna Tribute
DESCRIPTION:On Saturday\, September 27th Blonde Ambition – A Madonna Tribute performs at Hollywood Casino Toledo inside the H-Lounge! \nAt Hollywood Casino Toledo\, the H Lounge offers a vibrant atmosphere with free live entertainment every Friday and Saturday night from 8 p.m. to 11 p.m. Located on the casino floor\, the H Lounge features a variety of performances\, including local bands and tribute acts. You can also purchase tickets for a 4 top VIP viewing table on their website!
URL:https://feature-353-hide-past-events-review-hart-desti-07sbl4.dev02.devhart.com/event/hollywood-casino-toledo-blonde-ambition-madonna-tribute
LOCATION:Hollywood Casino\, 1968 Miami St\, Toledo\, OH\, 43605\, United States
CATEGORIES:casino,entertainment,live music
ATTACH;FMTTYPE=image/jpeg:https://minio.devhart.com/destination-toledo-website/wp-content/uploads/2025/07/10111834/b9870f77-94ac-4a69-a5da-d17b6aa4e1ee-20.jpg
END:VEVENT
END:VCALENDAR