BEGIN:VCALENDAR
VERSION:2.0
PRODID:-//Destination Toledo - ECPv6.15.17.1//NONSGML v1.0//EN
CALSCALE:GREGORIAN
METHOD:PUBLISH
X-WR-CALNAME:Destination Toledo
X-ORIGINAL-URL:https://feature-353-hide-past-events-review-hart-desti-07sbl4.dev02.devhart.com
X-WR-CALDESC:Events for Destination Toledo
REFRESH-INTERVAL;VALUE=DURATION:PT1H
X-Robots-Tag:noindex
X-PUBLISHED-TTL:PT1H
BEGIN:VTIMEZONE
TZID:America/Detroit
BEGIN:DAYLIGHT
TZOFFSETFROM:-0500
TZOFFSETTO:-0400
TZNAME:EDT
DTSTART:20240310T070000
END:DAYLIGHT
BEGIN:STANDARD
TZOFFSETFROM:-0400
TZOFFSETTO:-0500
TZNAME:EST
DTSTART:20241103T060000
END:STANDARD
BEGIN:DAYLIGHT
TZOFFSETFROM:-0500
TZOFFSETTO:-0400
TZNAME:EDT
DTSTART:20250309T070000
END:DAYLIGHT
BEGIN:STANDARD
TZOFFSETFROM:-0400
TZOFFSETTO:-0500
TZNAME:EST
DTSTART:20251102T060000
END:STANDARD
BEGIN:DAYLIGHT
TZOFFSETFROM:-0500
TZOFFSETTO:-0400
TZNAME:EDT
DTSTART:20260308T070000
END:DAYLIGHT
BEGIN:STANDARD
TZOFFSETFROM:-0400
TZOFFSETTO:-0500
TZNAME:EST
DTSTART:20261101T060000
END:STANDARD
END:VTIMEZONE
BEGIN:VEVENT
DTSTART;TZID=America/Detroit:20250715T000000
DTEND;TZID=America/Detroit:20250715T235959
DTSTAMP:20260425T235054
CREATED:20250715T123451Z
LAST-MODIFIED:20250715T123632Z
UID:53507-1752537600-1752623999@feature-353-hide-past-events-review-hart-desti-07sbl4.dev02.devhart.com
SUMMARY:Infinite Images: The Art of Algorithms
DESCRIPTION:Explore the intersection of art and technology in Infinite Images: The Art of Algorithms. This exhibition highlights the innovative ways artists use code\, systems\, and generative processes to create visually striking works that challenge how we define creativity. From early experiments in computer art to today’s algorithm-driven visuals\, discover how artists are reimagining image-making in the digital age. \nDon’t miss this rare opportunity; reserve your exhibition tickets today.
URL:https://feature-353-hide-past-events-review-hart-desti-07sbl4.dev02.devhart.com/event/infinite-images-the-art-of-algorithms
LOCATION:Toledo Museum of Art\, 2445 Monroe St\, Toledo\, OH\, 43620\, United States
CATEGORIES:art,educational
ATTACH;FMTTYPE=image/png:https://minio.devhart.com/destination-toledo-website/wp-content/uploads/2025/07/10111820/Infinite-Images-tma-exhibit-4x3-event-image.png
END:VEVENT
BEGIN:VEVENT
DTSTART;TZID=America/Detroit:20251121T000000
DTEND;TZID=America/Detroit:20251231T235959
DTSTAMP:20260425T235054
CREATED:20250520T193354Z
LAST-MODIFIED:20250520T193354Z
UID:52165-1763683200-1767225599@feature-353-hide-past-events-review-hart-desti-07sbl4.dev02.devhart.com
SUMMARY:Lights before Christmas
DESCRIPTION:Take in the wintry majesty of this USA Today award-winning light display at the Toledo Zoo! The Lights before Christmas at the Toledo Zoo & Aquarium will be Fri\, Nov. 21 – Sun\, Dec. 31. \nThe Lights before Christmas features more than one million lights\, more than 200 illuminated animal images\, a beer garden and ice slide sure to brighten the holiday season. \nStay tuned for more details or visit the Toledo Zoo & Aquarium website!
URL:https://feature-353-hide-past-events-review-hart-desti-07sbl4.dev02.devhart.com/event/lights-before-christmas
LOCATION:Toledo Zoo & Aquarium\, Hippo Way 2\, Toledo\, OH\, 43609\, United States
CATEGORIES:entertainment,family friendly,outdoors
ATTACH;FMTTYPE=image/jpeg:https://minio.devhart.com/destination-toledo-website/wp-content/uploads/2024/12/10112131/lights-before-christmas-YHg0Yu.tmp_.jpg
END:VEVENT
BEGIN:VEVENT
DTSTART;TZID=America/Detroit:20251121T190000
DTEND;TZID=America/Detroit:20251121T220000
DTSTAMP:20260425T235054
CREATED:20250819T154321Z
LAST-MODIFIED:20250819T154321Z
UID:54130-1763751600-1763762400@feature-353-hide-past-events-review-hart-desti-07sbl4.dev02.devhart.com
SUMMARY:Toledo Walleye vs. Wichita Thunder
DESCRIPTION:The Toledo Walleye are back for another exciting season of hockey at the Huntington Center! They continue their home slate on Friday\, Nov. 21 with a visit from the Wichita Thunder. \nBuilding on last season’s successful campaign\, the Walleye look to bring the ECHL’s Kelly Cup to Toledo and continue their league leading home sell-out streak. \nGATES OPEN: 6:00 p.m.PUCK DROP: 7:15 p.m. \nSpecial Promotion: Zamboni Night\nZamboni Night will feature a specialty jersey and Zamboni gravy boat giveaway presented by Meijer.
URL:https://feature-353-hide-past-events-review-hart-desti-07sbl4.dev02.devhart.com/event/toledo-walleye-vs-wichita-thunder-2
LOCATION:Huntington Center\, 500 Jefferson Ave\, Toledo\, OH\, 43604\, United States
CATEGORIES:hockey,sports
ATTACH;FMTTYPE=image/jpeg:https://minio.devhart.com/destination-toledo-website/wp-content/uploads/2024/12/18102750/Walleye-Events-Graphic.jpg
END:VEVENT
END:VCALENDAR