BEGIN:VCALENDAR
VERSION:2.0
PRODID:-//Destination Toledo - ECPv6.15.17.1//NONSGML v1.0//EN
CALSCALE:GREGORIAN
METHOD:PUBLISH
X-WR-CALNAME:Destination Toledo
X-ORIGINAL-URL:https://feature-353-hide-past-events-review-hart-desti-07sbl4.dev02.devhart.com
X-WR-CALDESC:Events for Destination Toledo
REFRESH-INTERVAL;VALUE=DURATION:PT1H
X-Robots-Tag:noindex
X-PUBLISHED-TTL:PT1H
BEGIN:VTIMEZONE
TZID:America/Detroit
BEGIN:DAYLIGHT
TZOFFSETFROM:-0500
TZOFFSETTO:-0400
TZNAME:EDT
DTSTART:20240310T070000
END:DAYLIGHT
BEGIN:STANDARD
TZOFFSETFROM:-0400
TZOFFSETTO:-0500
TZNAME:EST
DTSTART:20241103T060000
END:STANDARD
BEGIN:DAYLIGHT
TZOFFSETFROM:-0500
TZOFFSETTO:-0400
TZNAME:EDT
DTSTART:20250309T070000
END:DAYLIGHT
BEGIN:STANDARD
TZOFFSETFROM:-0400
TZOFFSETTO:-0500
TZNAME:EST
DTSTART:20251102T060000
END:STANDARD
BEGIN:DAYLIGHT
TZOFFSETFROM:-0500
TZOFFSETTO:-0400
TZNAME:EDT
DTSTART:20260308T070000
END:DAYLIGHT
BEGIN:STANDARD
TZOFFSETFROM:-0400
TZOFFSETTO:-0500
TZNAME:EST
DTSTART:20261101T060000
END:STANDARD
BEGIN:DAYLIGHT
TZOFFSETFROM:-0500
TZOFFSETTO:-0400
TZNAME:EDT
DTSTART:20270314T070000
END:DAYLIGHT
BEGIN:STANDARD
TZOFFSETFROM:-0400
TZOFFSETTO:-0500
TZNAME:EST
DTSTART:20271107T060000
END:STANDARD
END:VTIMEZONE
BEGIN:VEVENT
DTSTART;TZID=America/Detroit:20250325T083000
DTEND;TZID=America/Detroit:20250325T093000
DTSTAMP:20260419T101750
CREATED:20250321T152324Z
LAST-MODIFIED:20250714T143913Z
UID:39759-1742891400-1742895000@feature-353-hide-past-events-review-hart-desti-07sbl4.dev02.devhart.com
SUMMARY:$20 Drop in Yoga
DESCRIPTION:Join Toledo Mindfulness Institute for their weekly yoga class designed to leave you feeling connected\, present\, and expansive. $20 drop in\, no preregistration required!\n\nPayment can be made with cash or card at studio.Yoga mats and all props provided
URL:https://feature-353-hide-past-events-review-hart-desti-07sbl4.dev02.devhart.com/event/20-drop-in-yoga
LOCATION:Toledo Mindfulness Institute\, 5648 Main Street Suite 1\, Sylvania\, Ohio\, 43560\, United States
ATTACH;FMTTYPE=image/png:https://minio.devhart.com/destination-toledo-website/wp-content/uploads/2025/03/10112128/tmi-yoga-4x3-event-image.png
END:VEVENT
BEGIN:VEVENT
DTSTART;TZID=America/Detroit:20250715T083000
DTEND;TZID=America/Detroit:20250715T093000
DTSTAMP:20260419T101750
CREATED:20250714T143249Z
LAST-MODIFIED:20250714T143605Z
UID:53483-1752568200-1752571800@feature-353-hide-past-events-review-hart-desti-07sbl4.dev02.devhart.com
SUMMARY:$20 Drop in Yoga
DESCRIPTION:Join Toledo Mindfulness Institute for our weekly yoga class designed to leave you feeling connected\, present\, and expansive. $20 drop in\, no preregistration required.\n\nPayment can be made with cash or card at studio.Yoga mats and all props provided.
URL:https://feature-353-hide-past-events-review-hart-desti-07sbl4.dev02.devhart.com/event/10-drop-in-yoga-2
LOCATION:Toledo Mindfulness Institute\, 5648 Main Street Suite 1\, Sylvania\, Ohio\, 43560\, United States
ATTACH;FMTTYPE=image/png:https://minio.devhart.com/destination-toledo-website/wp-content/uploads/2025/03/10112128/tmi-yoga-4x3-event-image.png
END:VEVENT
BEGIN:VEVENT
DTSTART;TZID=America/Detroit:20250325T190000
DTEND;TZID=America/Detroit:20250325T213000
DTSTAMP:20260419T101750
CREATED:20250321T142002Z
LAST-MODIFIED:20250321T142002Z
UID:39747-1742929200-1742938200@feature-353-hide-past-events-review-hart-desti-07sbl4.dev02.devhart.com
SUMMARY:SESSIONS: Tuesday Night LIVE Jazz at Lucille's
DESCRIPTION:Join us every week at Lucille’s Lounge for an unforgettable musical experience as Gene Parker and Damen Cook host ‘sessions\,’ a live performance event that brings decades of musical expertise to the stage. Gene Parker\, a seasoned musician with 50 years in the Toledo area\, is a true virtuoso across multiple instruments and an esteemed Jazz Studies instructor. Damen Cook\, a talented drummer influenced by jazz\, R&B\, and rock\, brings a vibrant energy to the stage. Enjoy the dazzling sounds of these two incredible artists! \n$5 music fee will be added to tabs\, per person. 2 drink minimum applies (soda and bottled water included). Make it a Taco Tuesday with our chef-selected\, made-from-scratch tacos!
URL:https://feature-353-hide-past-events-review-hart-desti-07sbl4.dev02.devhart.com/event/sessions-tuesday-night-live-jazz-at-lucilles
LOCATION:Lucille’s Jazz Lounge\, 1447 N. Summit St.\, Toledo\, OH\, 43604\, United States
ATTACH;FMTTYPE=image/png:https://minio.devhart.com/destination-toledo-website/wp-content/uploads/2025/03/10112129/lucilles-tues-4x3-event-image.png
END:VEVENT
BEGIN:VEVENT
DTSTART;TZID=America/Detroit:20260407T193000
DTEND;TZID=America/Detroit:20260407T223000
DTSTAMP:20260419T101750
CREATED:20250609T173256Z
LAST-MODIFIED:20250609T173256Z
UID:52548-1775590200-1775601000@feature-353-hide-past-events-review-hart-desti-07sbl4.dev02.devhart.com
SUMMARY:The Great Gatsby
DESCRIPTION:THE PARTY’S ROARING IN TOLEDO!\nTHE GREAT GATSBY is a “Broadway extravaganza that explodes with life and energy” (Entertainment Weekly). Based on the classic American novel by F. Scott Fitzgerald\, the Tony Award®-winning new musical is an unforgettable journey of love\, wealth and tragedy that brings the Roaring Twenties to life on stage. \nDirected by Marc Bruni (Beautiful: The Carole King Musical)\, this story of extravagance and longing features choreography by Dominique Kelley (So You Think You Can Dance)\, a book by Kait Kerrigan (The Mad Ones) and a jazz- and pop-influenced original score by Jason Howland (Little Women) and Nathan Tysen (Paradise Square). \nPerformance Schedule:\nTuesday\, April 7\, 2026 – 7:30 p.m.\nWednesday\, April 8\, 2026 – 7:30 p.m.\nThursday\, April 9\, 2026 – 7:30 p.m.\nFriday\, April 10\, 2026 – 7:30 p.m.\nSaturday\, April 11\, 2026 – 2:00 & 7:30 p.m.\nSunday\, April 12\, 2026 – 1:00 & 6:30 p.m.
URL:https://feature-353-hide-past-events-review-hart-desti-07sbl4.dev02.devhart.com/event/the-great-gatsby
LOCATION:Stranahan Theater\, 4645 Heatherdowns Blvd\, Toledo\, OH\, 43614\, United States
CATEGORIES:entertainment,musical
ATTACH;FMTTYPE=image/jpeg:https://minio.devhart.com/destination-toledo-website/wp-content/uploads/2025/06/10111928/Photo-1-Samantha-Pauly-center-cast-in-the-Broadway-production-of-The-Great-Gatsby-c-Matthew-Murphy-and-Evan-Zimmerman-scaled.jpg
END:VEVENT
END:VCALENDAR